BEGIN:VCALENDAR
VERSION:2.0
PRODID:-//Salem for All Ages - ECPv6.15.18//NONSGML v1.0//EN
CALSCALE:GREGORIAN
METHOD:PUBLISH
X-WR-CALNAME:Salem for All Ages
X-ORIGINAL-URL:https://salemforallages.org
X-WR-CALDESC:Events for Salem for All Ages
REFRESH-INTERVAL;VALUE=DURATION:PT1H
X-Robots-Tag:noindex
X-PUBLISHED-TTL:PT1H
BEGIN:VTIMEZONE
TZID:America/New_York
BEGIN:DAYLIGHT
TZOFFSETFROM:-0500
TZOFFSETTO:-0400
TZNAME:EDT
DTSTART:20240310T070000
END:DAYLIGHT
BEGIN:STANDARD
TZOFFSETFROM:-0400
TZOFFSETTO:-0500
TZNAME:EST
DTSTART:20241103T060000
END:STANDARD
BEGIN:DAYLIGHT
TZOFFSETFROM:-0500
TZOFFSETTO:-0400
TZNAME:EDT
DTSTART:20250309T070000
END:DAYLIGHT
BEGIN:STANDARD
TZOFFSETFROM:-0400
TZOFFSETTO:-0500
TZNAME:EST
DTSTART:20251102T060000
END:STANDARD
BEGIN:DAYLIGHT
TZOFFSETFROM:-0500
TZOFFSETTO:-0400
TZNAME:EDT
DTSTART:20260308T070000
END:DAYLIGHT
BEGIN:STANDARD
TZOFFSETFROM:-0400
TZOFFSETTO:-0500
TZNAME:EST
DTSTART:20261101T060000
END:STANDARD
END:VTIMEZONE
BEGIN:VEVENT
DTSTART;TZID=America/New_York:20250315T130000
DTEND;TZID=America/New_York:20250315T140000
DTSTAMP:20260423T170744
CREATED:20250312T090009Z
LAST-MODIFIED:20250312T090009Z
UID:22732-1742043600-1742047200@salemforallages.org
SUMMARY:Women’s History Tour
DESCRIPTION:March is Women’s History Month\, and to celebrate we are offering our Women’s History Tour! \nFrom the Indigenous women who worked the land to our organization’s founder\, women have always been a part of the Turner-Ingersoll Mansion’s history\, but not always given the spotlight they deserve. The House of the Seven Gables has created a Women’s History Tour to focus\, in-depth\, on the many women who have lived and labored in the Mansion.
URL:https://salemforallages.org/event/womens-history-tour-8/
ATTACH;FMTTYPE=image/jpeg:https://salemforallages.org/wp-content/uploads/2025/03/IMG_9182-scaled-1.jpg
END:VEVENT
BEGIN:VEVENT
DTSTART;TZID=America/New_York:20250315T120000
DTEND;TZID=America/New_York:20250315T133000
DTSTAMP:20260423T170744
CREATED:20250309T090119Z
LAST-MODIFIED:20250309T090119Z
UID:22730-1742040000-1742045400@salemforallages.org
SUMMARY:Craft Witch
DESCRIPTION:Craft Witch is a DIY crafting session with something for everyone! Choose from a wide array of options to create your very own one-of-a-kind craft. Whichever craft you decide to create\, you’ll be provided with all the materials\, tools\, and knowledge needed to let your creativity flourish. Unlike our broom making\, bookbinding\, and spelljar making workshops in which participants are being guided through the crafting process step-by step by an instructor\, the DIY nature of Craft Witch means that you can use the studio time however you wish. Check out the crafting options on our website!
URL:https://salemforallages.org/event/craft-witch-15/
ATTACH;FMTTYPE=image/jpeg:https://salemforallages.org/wp-content/uploads/2025/03/Image-from-iOS-scaled-7.jpg
END:VEVENT
BEGIN:VEVENT
DTSTART;TZID=America/New_York:20250315T113000
DTEND;TZID=America/New_York:20250315T160000
DTSTAMP:20260423T170744
CREATED:20250309T090111Z
LAST-MODIFIED:20250309T090111Z
UID:22728-1742038200-1742054400@salemforallages.org
SUMMARY:Potion Brewing Store Experience
DESCRIPTION:Make your visit to The Good Witch of Salem’s shop memorable by booking our in-store Potion Brewing Experience. This activity is led by our Witch Apprentices. \nActivities are recommended for children ages 3 and up. \n*One appointment slot for each child is required.*
URL:https://salemforallages.org/event/potion-brewing-store-experience-263/
ATTACH;FMTTYPE=image/jpeg:https://salemforallages.org/wp-content/uploads/2025/03/Potion-Brewing-Store-Experience-9.jpg
END:VEVENT
BEGIN:VEVENT
DTSTART;TZID=America/New_York:20250315T113000
DTEND;TZID=America/New_York:20250315T160000
DTSTAMP:20260423T170744
CREATED:20250309T090107Z
LAST-MODIFIED:20250309T090107Z
UID:22727-1742038200-1742054400@salemforallages.org
SUMMARY:Magical Transformations
DESCRIPTION:Through our “Magical Transformations” children embrace their charms and express their individuality. Children can choose to transform into a “Witch” or “Wizard”!
URL:https://salemforallages.org/event/magical-transformations-271/
ATTACH;FMTTYPE=image/png:https://salemforallages.org/wp-content/uploads/2024/08/Transformations.png
END:VEVENT
BEGIN:VEVENT
DTSTART;TZID=America/New_York:20250315T100000
DTEND;TZID=America/New_York:20250315T160000
DTSTAMP:20260423T170744
CREATED:20250309T090107Z
LAST-MODIFIED:20250309T090107Z
UID:22726-1742032800-1742054400@salemforallages.org
SUMMARY:Leslie’s Retreat: Salem on the Brink of Revolution Exhibit
DESCRIPTION:This National Park Service exhibit will explore why Crown soldiers under Lt. Col. Alexander Leslie came to Salem on February 26\, 1775\, who were the major players in the event\, and how this event has been remembered and celebrated in Salem in the last 250 years. \nThis free exhibit will be on display from February 15th -April 27th at the Salem Armory Visitor Center\, 2 New Liberty Street\, Salem. \nThe Salem Armory Visitor Center is open Wednesday – Sunday\, 10 am – 4 pm.
URL:https://salemforallages.org/event/leslies-retreat-salem-on-the-brink-of-revolution-exhibit-21/
ATTACH;FMTTYPE=image/jpeg:https://salemforallages.org/wp-content/uploads/2025/02/1775_1782_Salem-Old-North-Bridge-Leslie-Retreat-800x600-1.jpg
END:VEVENT
BEGIN:VEVENT
DTSTART;TZID=America/New_York:20250315T100000
DTEND;TZID=America/New_York:20250315T153000
DTSTAMP:20260423T170744
CREATED:20250309T090059Z
LAST-MODIFIED:20250309T090059Z
UID:22724-1742032800-1742052600@salemforallages.org
SUMMARY:St. Patrick’s Day Trolley | 2025
DESCRIPTION:Embark on an enchanting adventure with the Good Witch of Salem and the mischievous Leprechaun aboard the Salem Trolley! The journey begins at The Good Witch of Salem’s shop with a story time all about rainbows and Leprechauns.
URL:https://salemforallages.org/event/st-patricks-day-trolley-2025/
ATTACH;FMTTYPE=image/jpeg:https://salemforallages.org/wp-content/uploads/2025/03/Leprechaun-Trolley-2025-1.jpg
END:VEVENT
BEGIN:VEVENT
DTSTART;TZID=America/New_York:20250314T200000
DTEND;TZID=America/New_York:20250314T220000
DTSTAMP:20260423T170744
CREATED:20250309T090055Z
LAST-MODIFIED:20250309T090055Z
UID:22722-1741982400-1741989600@salemforallages.org
SUMMARY:Brian Bates
DESCRIPTION:Brian Bates is a Nashville based comedian who tours the country performing at comedy clubs\, theaters\, corporate events\, and churches. You may have seen his Dry Bar Comedy specials or heard him as a guest on The Grand Ole Opry. He can also be heard regularly on LaughUSA on SiriusXM radio. When not on the road\, Brian joins fellow comedians Nate Bargatze\, Aaron Weber and Dusty Slay as one of the hosts of the “NateLand Podcast” which is heard by thousands of listeners each week.
URL:https://salemforallages.org/event/brian-bates/
ATTACH;FMTTYPE=image/png:https://salemforallages.org/wp-content/uploads/2025/03/Brian-Bates.png
END:VEVENT
BEGIN:VEVENT
DTSTART;TZID=America/New_York:20250314T200000
DTEND;TZID=America/New_York:20250314T220000
DTSTAMP:20260423T170744
CREATED:20250309T090051Z
LAST-MODIFIED:20250309T090051Z
UID:22720-1741982400-1741989600@salemforallages.org
SUMMARY:Choir! Choir! Choir!  We Will CHOIR! You!
DESCRIPTION:An EPIC QUEEN Sing-Along \nChoir! Choir! Choir! is the fully interactive\, participatory show that turns audience into performer! So get ready to laugh\, dance and SING! your hearts out with hundreds of other music-lovers just like you. It’s like a big birthday party for the greatest songs of all time and you’re invited! \nWhen it comes to EPIC anthems\, it doesn’t get BIGGER than Queen! And nothing feels better than belting out their biggest hits with a room full of Queen fans!
URL:https://salemforallages.org/event/choir-choir-choir-we-will-choir-you/
ATTACH;FMTTYPE=image/jpeg:https://salemforallages.org/wp-content/uploads/2025/03/choir-choir-choir.jpg
END:VEVENT
BEGIN:VEVENT
DTSTART;TZID=America/New_York:20250314T120000
DTEND;TZID=America/New_York:20250314T133000
DTSTAMP:20260423T170744
CREATED:20250309T090048Z
LAST-MODIFIED:20250309T090048Z
UID:22718-1741953600-1741959000@salemforallages.org
SUMMARY:Craft Witch
DESCRIPTION:Craft Witch is a DIY crafting session with something for everyone! Choose from a wide array of options to create your very own one-of-a-kind craft. Whichever craft you decide to create\, you’ll be provided with all the materials\, tools\, and knowledge needed to let your creativity flourish. Unlike our broom making\, bookbinding\, and spelljar making workshops in which participants are being guided through the crafting process step-by step by an instructor\, the DIY nature of Craft Witch means that you can use the studio time however you wish. Check out the crafting options on our website!
URL:https://salemforallages.org/event/craft-witch-14/
ATTACH;FMTTYPE=image/jpeg:https://salemforallages.org/wp-content/uploads/2025/03/Image-from-iOS-scaled-6.jpg
END:VEVENT
BEGIN:VEVENT
DTSTART;TZID=America/New_York:20250314T113000
DTEND;TZID=America/New_York:20250314T160000
DTSTAMP:20260423T170744
CREATED:20250309T090025Z
LAST-MODIFIED:20250309T090025Z
UID:22711-1741951800-1741968000@salemforallages.org
SUMMARY:Potion Brewing Store Experience
DESCRIPTION:Make your visit to The Good Witch of Salem’s shop memorable by booking our in-store Potion Brewing Experience. This activity is led by our Witch Apprentices. \nActivities are recommended for children ages 3 and up. \n*One appointment slot for each child is required.*
URL:https://salemforallages.org/event/potion-brewing-store-experience-262/
ATTACH;FMTTYPE=image/jpeg:https://salemforallages.org/wp-content/uploads/2025/03/Potion-Brewing-Store-Experience-8.jpg
END:VEVENT
BEGIN:VEVENT
DTSTART;TZID=America/New_York:20250314T113000
DTEND;TZID=America/New_York:20250314T160000
DTSTAMP:20260423T170744
CREATED:20250309T090024Z
LAST-MODIFIED:20250309T090024Z
UID:22710-1741951800-1741968000@salemforallages.org
SUMMARY:Magical Transformations
DESCRIPTION:Through our “Magical Transformations” children embrace their charms and express their individuality. Children can choose to transform into a “Witch” or “Wizard”!
URL:https://salemforallages.org/event/magical-transformations-270/
ATTACH;FMTTYPE=image/png:https://salemforallages.org/wp-content/uploads/2024/08/Transformations.png
END:VEVENT
BEGIN:VEVENT
DTSTART;TZID=America/New_York:20250314T113000
DTEND;TZID=America/New_York:20250314T140000
DTSTAMP:20260423T170744
CREATED:20250309T090047Z
LAST-MODIFIED:20250309T090047Z
UID:22717-1741951800-1741960800@salemforallages.org
SUMMARY:Rainbow Broom Decorating
DESCRIPTION:Fly into The Good Witch and Stay for a Spell! Unleash your creativity at the Good Witch of Salem’s Broom Decorating Station\, where you can transform a broom into a magical masterpiece! Use enchanting tape\, colorful ribbons\, sparkling stickers\, and shimmering gems to create a broom that’s uniquely yours.
URL:https://salemforallages.org/event/rainbow-broom-decorating-2/
ATTACH;FMTTYPE=image/png:https://salemforallages.org/wp-content/uploads/2025/02/Rainbow-Broom-Decorating.png
END:VEVENT
BEGIN:VEVENT
DTSTART;TZID=America/New_York:20250314T113000
DTEND;TZID=America/New_York:20250314T140000
DTSTAMP:20260423T170744
CREATED:20250309T090041Z
LAST-MODIFIED:20250309T090041Z
UID:22715-1741951800-1741960800@salemforallages.org
SUMMARY:Lots of Luck Potions
DESCRIPTION:Fly into The Good Witch and Stay for a Spell! Step into the DIY Good Witch of Salem’s Potion Bar\, where you can mix your very own magical potion creations! Choose your ingredients\, sprinkle in magical moondust\, add in your golden heart intentions\, and seal with a special charm to take home the enchantment!
URL:https://salemforallages.org/event/lots-of-luck-potions-4/
ATTACH;FMTTYPE=image/jpeg:https://salemforallages.org/wp-content/uploads/2025/03/Lots-of-Luck-scaled-2.jpg
END:VEVENT
BEGIN:VEVENT
DTSTART;TZID=America/New_York:20250314T113000
DTEND;TZID=America/New_York:20250314T140000
DTSTAMP:20260423T170744
CREATED:20250309T090033Z
LAST-MODIFIED:20250309T090033Z
UID:22713-1741951800-1741960800@salemforallages.org
SUMMARY:Rainbow Potions
DESCRIPTION:Fly into The Good Witch and Stay for a Spell! Step into the DIY Good Witch of Salem’s Potion Bar\, where you can mix your very own magical potion creations! Choose your ingredients\, sprinkle in magical moondust\, add in your golden heart intentions\, and seal with a special charm to take home the enchantment!
URL:https://salemforallages.org/event/rainbow-potions-3/
ATTACH;FMTTYPE=image/jpeg:https://salemforallages.org/wp-content/uploads/2025/03/Rainbow-BeamsFB-scaled-2.jpg
END:VEVENT
BEGIN:VEVENT
DTSTART;TZID=America/New_York:20250314T100000
DTEND;TZID=America/New_York:20250314T160000
DTSTAMP:20260423T170744
CREATED:20250309T090012Z
LAST-MODIFIED:20250309T090012Z
UID:22709-1741946400-1741968000@salemforallages.org
SUMMARY:Revere Beach Stories: Photographs and Poems
DESCRIPTION:Poets Jennifer Martelli and Kevin Carey grew up in Revere in the 1960s and 70’s.They’ve both written extensively about this city and its three-mile beachfront. Stephenie Young\, a Somerville photographer\, originally from California was drawn to this local East Coast ocean and its unfamiliar culture during the pandemic. Thus began a long-term photo project about everyday life in the beach city. After a chance conversation over those photographs and a few poems\, this collaboration was born. \nFebruary 21 – 6-8 pm\nArtist Reception and Reading \nWinfisky Gallery hours: Monday – Friday\, 10am-4pm
URL:https://salemforallages.org/event/revere-beach-stories-photographs-and-poems-19/
END:VEVENT
BEGIN:VEVENT
DTSTART;TZID=America/New_York:20250314T100000
DTEND;TZID=America/New_York:20250314T160000
DTSTAMP:20260423T170744
CREATED:20250308T100032Z
LAST-MODIFIED:20250308T100032Z
UID:22706-1741946400-1741968000@salemforallages.org
SUMMARY:Leslie’s Retreat: Salem on the Brink of Revolution Exhibit
DESCRIPTION:This National Park Service exhibit will explore why Crown soldiers under Lt. Col. Alexander Leslie came to Salem on February 26\, 1775\, who were the major players in the event\, and how this event has been remembered and celebrated in Salem in the last 250 years. \nThis free exhibit will be on display from February 15th -April 27th at the Salem Armory Visitor Center\, 2 New Liberty Street\, Salem. \nThe Salem Armory Visitor Center is open Wednesday – Sunday\, 10 am – 4 pm.
URL:https://salemforallages.org/event/leslies-retreat-salem-on-the-brink-of-revolution-exhibit-20/
ATTACH;FMTTYPE=image/jpeg:https://salemforallages.org/wp-content/uploads/2025/02/1775_1782_Salem-Old-North-Bridge-Leslie-Retreat-800x600-1.jpg
END:VEVENT
BEGIN:VEVENT
DTSTART;TZID=America/New_York:20250314T100000
DTEND;TZID=America/New_York:20250314T110000
DTSTAMP:20260423T170744
CREATED:20250308T100032Z
LAST-MODIFIED:20250308T100032Z
UID:22707-1741946400-1741950000@salemforallages.org
SUMMARY:Leprechaun Houses with The Good Witch of Salem
DESCRIPTION:Let’s celebrate St. Patrick’s Day by decorating our own “Leprechaun House”! Children will use paint\, gems\, stickers and glue to decorate a house. They will also learn about Rainbow Crystal Magic.
URL:https://salemforallages.org/event/leprechaun-houses-with-the-good-witch-of-salem/
ATTACH;FMTTYPE=image/jpeg:https://salemforallages.org/wp-content/uploads/2025/03/FINAL-Leprechaun-House-_-Good-Witch.jpg
END:VEVENT
BEGIN:VEVENT
DTSTART;TZID=America/New_York:20250313T190000
DTEND;TZID=America/New_York:20250313T210000
DTSTAMP:20260423T170744
CREATED:20250308T100027Z
LAST-MODIFIED:20250308T100027Z
UID:22704-1741892400-1741899600@salemforallages.org
SUMMARY:True Crime North Shore with Angelle Wood
DESCRIPTION:A HISTORY OF MURDER\, MYSTERY\, AND MISSING PERSONS. Join host Anngelle Wood at Off Cabot on Thursday\, March 13th for a live recording of the Crime of the Truest Kind podcast! The North Shore holds secrets… Join us for a chilling exploration of local murders\, unsolved mysteries\, and missing person cases. This special event delves into the stories that have haunted our communities\, including that of Claire Gravel\, the 20-year-old Salem State student found murdered in 1986\, and the recent developments in her case. \n 
URL:https://salemforallages.org/event/true-crime-north-shore-with-angelle-wood/
ATTACH;FMTTYPE=image/png:https://salemforallages.org/wp-content/uploads/2025/03/True-Crime.png
END:VEVENT
BEGIN:VEVENT
DTSTART;TZID=America/New_York:20250313T170000
DTEND;TZID=America/New_York:20250313T190000
DTSTAMP:20260423T170744
CREATED:20250308T100024Z
LAST-MODIFIED:20250308T100024Z
UID:22702-1741885200-1741892400@salemforallages.org
SUMMARY:Behind Closed Doors
DESCRIPTION:The House of the Seven Gables has many stories to tell\, but we can only tell so many on our usual tour. Join The Gables for a special “Behind the Scenes” tour where you will get into spaces the public generally isn’t allowed\, hear some of the lesser-known stories\, and enjoy The Gables like few ever have! Space is limited and registration is required.
URL:https://salemforallages.org/event/behind-closed-doors-5/
ATTACH;FMTTYPE=image/jpeg:https://salemforallages.org/wp-content/uploads/2025/03/2025-Behind-Closed-Doors-1080x1080-1.jpg
END:VEVENT
BEGIN:VEVENT
DTSTART;TZID=America/New_York:20250313T120000
DTEND;TZID=America/New_York:20250313T133000
DTSTAMP:20260423T170744
CREATED:20250308T100020Z
LAST-MODIFIED:20250308T100020Z
UID:22700-1741867200-1741872600@salemforallages.org
SUMMARY:Craft Witch
DESCRIPTION:Craft Witch is a DIY crafting session with something for everyone! Choose from a wide array of options to create your very own one-of-a-kind craft. Whichever craft you decide to create\, you’ll be provided with all the materials\, tools\, and knowledge needed to let your creativity flourish. Unlike our broom making\, bookbinding\, and spelljar making workshops in which participants are being guided through the crafting process step-by step by an instructor\, the DIY nature of Craft Witch means that you can use the studio time however you wish. Check out the crafting options on our website!
URL:https://salemforallages.org/event/craft-witch-13/
ATTACH;FMTTYPE=image/jpeg:https://salemforallages.org/wp-content/uploads/2025/03/Image-from-iOS-scaled-5.jpg
END:VEVENT
BEGIN:VEVENT
DTSTART;TZID=America/New_York:20250313T113000
DTEND;TZID=America/New_York:20250313T160000
DTSTAMP:20260423T170744
CREATED:20250308T100014Z
LAST-MODIFIED:20250308T100014Z
UID:22698-1741865400-1741881600@salemforallages.org
SUMMARY:Potion Brewing Store Experience
DESCRIPTION:Make your visit to The Good Witch of Salem’s shop memorable by booking our in-store Potion Brewing Experience. This activity is led by our Witch Apprentices. \nActivities are recommended for children ages 3 and up. \n*One appointment slot for each child is required.*
URL:https://salemforallages.org/event/potion-brewing-store-experience-261/
ATTACH;FMTTYPE=image/jpeg:https://salemforallages.org/wp-content/uploads/2025/03/Potion-Brewing-Store-Experience-7.jpg
END:VEVENT
BEGIN:VEVENT
DTSTART;TZID=America/New_York:20250313T113000
DTEND;TZID=America/New_York:20250313T160000
DTSTAMP:20260423T170744
CREATED:20250308T100012Z
LAST-MODIFIED:20250308T100012Z
UID:22697-1741865400-1741881600@salemforallages.org
SUMMARY:Magical Transformations
DESCRIPTION:Through our “Magical Transformations” children embrace their charms and express their individuality. Children can choose to transform into a “Witch” or “Wizard”!
URL:https://salemforallages.org/event/magical-transformations-269/
ATTACH;FMTTYPE=image/png:https://salemforallages.org/wp-content/uploads/2024/08/Transformations.png
END:VEVENT
BEGIN:VEVENT
DTSTART;TZID=America/New_York:20250313T100000
DTEND;TZID=America/New_York:20250313T160000
DTSTAMP:20260423T170744
CREATED:20250307T100111Z
LAST-MODIFIED:20250307T100111Z
UID:22690-1741860000-1741881600@salemforallages.org
SUMMARY:Revere Beach Stories: Photographs and Poems
DESCRIPTION:Poets Jennifer Martelli and Kevin Carey grew up in Revere in the 1960s and 70’s.They’ve both written extensively about this city and its three-mile beachfront. Stephenie Young\, a Somerville photographer\, originally from California was drawn to this local East Coast ocean and its unfamiliar culture during the pandemic. Thus began a long-term photo project about everyday life in the beach city. After a chance conversation over those photographs and a few poems\, this collaboration was born. \nFebruary 21 – 6-8 pm\nArtist Reception and Reading \nWinfisky Gallery hours: Monday – Friday\, 10am-4pm
URL:https://salemforallages.org/event/revere-beach-stories-photographs-and-poems-18/
END:VEVENT
BEGIN:VEVENT
DTSTART;TZID=America/New_York:20250313T100000
DTEND;TZID=America/New_York:20250313T160000
DTSTAMP:20260423T170744
CREATED:20250307T100109Z
LAST-MODIFIED:20250307T100109Z
UID:22689-1741860000-1741881600@salemforallages.org
SUMMARY:Leslie’s Retreat: Salem on the Brink of Revolution Exhibit
DESCRIPTION:This National Park Service exhibit will explore why Crown soldiers under Lt. Col. Alexander Leslie came to Salem on February 26\, 1775\, who were the major players in the event\, and how this event has been remembered and celebrated in Salem in the last 250 years. \nThis free exhibit will be on display from February 15th -April 27th at the Salem Armory Visitor Center\, 2 New Liberty Street\, Salem. \nThe Salem Armory Visitor Center is open Wednesday – Sunday\, 10 am – 4 pm.
URL:https://salemforallages.org/event/leslies-retreat-salem-on-the-brink-of-revolution-exhibit-19/
ATTACH;FMTTYPE=image/jpeg:https://salemforallages.org/wp-content/uploads/2025/02/1775_1782_Salem-Old-North-Bridge-Leslie-Retreat-800x600-1.jpg
END:VEVENT
BEGIN:VEVENT
DTSTART;TZID=America/New_York:20250312T200000
DTEND;TZID=America/New_York:20250312T223000
DTSTAMP:20260423T170744
CREATED:20250307T100054Z
LAST-MODIFIED:20250307T100054Z
UID:22687-1741809600-1741818600@salemforallages.org
SUMMARY:The MC Taylor Goldsmith Show
DESCRIPTION:Taylor Goldsmith (of Dawes) and MC Taylor (of Hiss Golden Messenger) \nIt’ll be a night of two Taylors when longtime friends and collaborators Taylor Goldsmith (of Dawes) and MC Taylor (of Hiss Golden Messenger) join forces for a run of shows in some of their favorite intimate venues around the country this March.
URL:https://salemforallages.org/event/the-mc-taylor-goldsmith-show/
ATTACH;FMTTYPE=image/jpeg:https://salemforallages.org/wp-content/uploads/2025/03/mc-taylor-goldsmith.jpg
END:VEVENT
BEGIN:VEVENT
DTSTART;TZID=America/New_York:20250312T180000
DTEND;TZID=America/New_York:20250312T190000
DTSTAMP:20260423T170744
CREATED:20250307T100043Z
LAST-MODIFIED:20250307T100043Z
UID:22685-1741802400-1741806000@salemforallages.org
SUMMARY:Full Moon Yoga
DESCRIPTION:Wild Sea Wellness will be offering monthly yoga classes at The House of the Seven Gables throughout 2025. Be sure to check their website and calendar for details\, dates\, and links to register. \nThe next partnership is scheduled for March 12 at 6:00 p.m. in the Visitor Center.
URL:https://salemforallages.org/event/full-moon-yoga-11/
ATTACH;FMTTYPE=image/jpeg:https://salemforallages.org/wp-content/uploads/2025/03/WildSeaWellness-March1920x1080.jpg
END:VEVENT
BEGIN:VEVENT
DTSTART;TZID=America/New_York:20250312T120000
DTEND;TZID=America/New_York:20250312T133000
DTSTAMP:20260423T170744
CREATED:20250307T100032Z
LAST-MODIFIED:20250307T100032Z
UID:22683-1741780800-1741786200@salemforallages.org
SUMMARY:Craft Witch
DESCRIPTION:Craft Witch is a DIY crafting session with something for everyone! Choose from a wide array of options to create your very own one-of-a-kind craft. Whichever craft you decide to create\, you’ll be provided with all the materials\, tools\, and knowledge needed to let your creativity flourish. Unlike our broom making\, bookbinding\, and spelljar making workshops in which participants are being guided through the crafting process step-by step by an instructor\, the DIY nature of Craft Witch means that you can use the studio time however you wish. Check out the crafting options on our website!
URL:https://salemforallages.org/event/craft-witch-12/
ATTACH;FMTTYPE=image/jpeg:https://salemforallages.org/wp-content/uploads/2025/03/Image-from-iOS-scaled-4.jpg
END:VEVENT
BEGIN:VEVENT
DTSTART;TZID=America/New_York:20250312T113000
DTEND;TZID=America/New_York:20250312T153000
DTSTAMP:20260423T170744
CREATED:20250306T100024Z
LAST-MODIFIED:20250306T100024Z
UID:22678-1741779000-1741793400@salemforallages.org
SUMMARY:Magical Transformations
DESCRIPTION:Through our “Magical Transformations” children embrace their charms and express their individuality. Children can choose to transform into a “Witch” or “Wizard”!
URL:https://salemforallages.org/event/magical-transformations-268/
ATTACH;FMTTYPE=image/png:https://salemforallages.org/wp-content/uploads/2024/08/Transformations-1.png
END:VEVENT
BEGIN:VEVENT
DTSTART;TZID=America/New_York:20250312T113000
DTEND;TZID=America/New_York:20250312T150000
DTSTAMP:20260423T170744
CREATED:20250307T100026Z
LAST-MODIFIED:20250307T100026Z
UID:22681-1741779000-1741791600@salemforallages.org
SUMMARY:Potion Brewing Store Experience
DESCRIPTION:Make your visit to The Good Witch of Salem’s shop memorable by booking our in-store Potion Brewing Experience. This activity is led by our Witch Apprentices. \nActivities are recommended for children ages 3 and up. \n*One appointment slot for each child is required.*
URL:https://salemforallages.org/event/potion-brewing-store-experience-260/
ATTACH;FMTTYPE=image/jpeg:https://salemforallages.org/wp-content/uploads/2025/03/Potion-Brewing-Store-Experience-6.jpg
END:VEVENT
BEGIN:VEVENT
DTSTART;TZID=America/New_York:20250312T113000
DTEND;TZID=America/New_York:20250312T150000
DTSTAMP:20260423T170744
CREATED:20250307T100011Z
LAST-MODIFIED:20250307T100011Z
UID:22679-1741779000-1741791600@salemforallages.org
SUMMARY:Stop In For a Spell: DIY Potion Bar
DESCRIPTION:Fly in to The Good Witch and Stay for a Spell! Mix up your very own potion at our Potion Bar! \nDrop Ins begin at store opening and end 30 minutes before closing and are offered on a first come\, first serve basis. Purchase online or pay in store. \nDrop Ins may be unavailable during a birthday party or store event. Please call ahead\, or check our posted hours on Google. \nUnder age 4 may participate with the help of a supervising adult.
URL:https://salemforallages.org/event/stop-in-for-a-spell-diy-potion-bar-204/
ATTACH;FMTTYPE=image/jpeg:https://salemforallages.org/wp-content/uploads/2025/03/Stop-In-For-a-Spell-SQUARE-2.jpg
END:VEVENT
END:VCALENDAR