BEGIN:VCALENDAR
VERSION:2.0
PRODID:-//Salem for All Ages - ECPv6.15.18//NONSGML v1.0//EN
CALSCALE:GREGORIAN
METHOD:PUBLISH
X-ORIGINAL-URL:https://salemforallages.org
X-WR-CALDESC:Events for Salem for All Ages
REFRESH-INTERVAL;VALUE=DURATION:PT1H
X-Robots-Tag:noindex
X-PUBLISHED-TTL:PT1H
BEGIN:VTIMEZONE
TZID:America/New_York
BEGIN:DAYLIGHT
TZOFFSETFROM:-0500
TZOFFSETTO:-0400
TZNAME:EDT
DTSTART:20240310T070000
END:DAYLIGHT
BEGIN:STANDARD
TZOFFSETFROM:-0400
TZOFFSETTO:-0500
TZNAME:EST
DTSTART:20241103T060000
END:STANDARD
BEGIN:DAYLIGHT
TZOFFSETFROM:-0500
TZOFFSETTO:-0400
TZNAME:EDT
DTSTART:20250309T070000
END:DAYLIGHT
BEGIN:STANDARD
TZOFFSETFROM:-0400
TZOFFSETTO:-0500
TZNAME:EST
DTSTART:20251102T060000
END:STANDARD
BEGIN:DAYLIGHT
TZOFFSETFROM:-0500
TZOFFSETTO:-0400
TZNAME:EDT
DTSTART:20260308T070000
END:DAYLIGHT
BEGIN:STANDARD
TZOFFSETFROM:-0400
TZOFFSETTO:-0500
TZNAME:EST
DTSTART:20261101T060000
END:STANDARD
END:VTIMEZONE
BEGIN:VEVENT
DTSTART;TZID=America/New_York:20250601T100000
DTEND;TZID=America/New_York:20250601T220000
DTSTAMP:20260423T124028
CREATED:20250525T090018Z
LAST-MODIFIED:20250525T090018Z
UID:23754-1748772000-1748815200@salemforallages.org
SUMMARY:Massachusetts Poetry Festival
DESCRIPTION:The Massachusetts Poetry Festival is a biennial celebration of contemporary poetry held in Salem\, showcasing an all-star roster of poets from across the Commonwealth and beyond. The Festival features more than 100 poets and performers from across Massachusetts and beyond. There are headline readings\, workshops\, panels\, a small press fair\, multimedia events\, open mics\, and more.
URL:https://salemforallages.org/event/massachusetts-poetry-festival-6/
ATTACH;FMTTYPE=image/jpeg:https://salemforallages.org/wp-content/uploads/2025/03/MassPo-2023-Day1-FaePhoenixPhoto-229-800x533-1.jpg
END:VEVENT
BEGIN:VEVENT
DTSTART;TZID=America/New_York:20250601T110000
DTEND;TZID=America/New_York:20250601T140000
DTSTAMP:20260423T124028
CREATED:20250525T090023Z
LAST-MODIFIED:20250525T090023Z
UID:23759-1748775600-1748786400@salemforallages.org
SUMMARY:Mimosas with Madam Pride Kick-Off
DESCRIPTION:Kick off Pride Month at Mimosas with Madam! \nNorth Shore DIVA\, MADAM ZAPPLE\, is back with another installment of the super-fun Mimosas with Madam drag brunch! \nGet your favorite coworkers together\, your family\, your best gurrrls and get to the show on Sunday\, June 1st at the Governor’s Hall in Village Tavern. \nBe prepared for a FABULOUS time with New England FAVORITES MISS IVY LEAGUE\, RAYA SUNSHINE\, and SHANIA TAINT! \nVillage Tavern curates a delicious brunch menu just for the show! \nStreet parking and a parking are nearby\, and the MBTA station is only a few blocks away.\nGet your tickets today! \n$1 from each ticket sold with be donated to NORTH SHORE PRIDE.
URL:https://salemforallages.org/event/mimosas-with-madam-pride-kick-off/
ATTACH;FMTTYPE=image/jpeg:https://salemforallages.org/wp-content/uploads/2025/05/Mimosasa.jpg
END:VEVENT
BEGIN:VEVENT
DTSTART;TZID=America/New_York:20250601T110000
DTEND;TZID=America/New_York:20250601T140000
DTSTAMP:20260423T124028
CREATED:20250525T090024Z
LAST-MODIFIED:20250525T090024Z
UID:23761-1748775600-1748786400@salemforallages.org
SUMMARY:Mimosas with Madam Pride Kick-Off
DESCRIPTION:Kick off Pride Month at Mimosas with Madam! \nNorth Shore DIVA\, MADAM ZAPPLE\, is back with another installment of the super-fun Mimosas with Madam drag brunch! \nGet your favorite coworkers together\, your family\, your best gurrrls and get to the show on Sunday\, June 1st at the Governor’s Hall in Village Tavern. \nBe prepared for a FABULOUS time with New England FAVORITES MISS IVY LEAGUE\, RAYA SUNSHINE\, and SHANIA TAINT! \nVillage Tavern curates a delicious brunch menu just for the show! \nStreet parking and a parking are nearby\, and the MBTA station is only a few blocks away.\nGet your tickets today! \n$1 from each ticket sold with be donated to NORTH SHORE PRIDE.
URL:https://salemforallages.org/event/mimosas-with-madam-pride-kick-off-2/
ATTACH;FMTTYPE=image/jpeg:https://salemforallages.org/wp-content/uploads/2025/05/Mimosasa.jpg
END:VEVENT
BEGIN:VEVENT
DTSTART;TZID=America/New_York:20250601T110000
DTEND;TZID=America/New_York:20250601T170000
DTSTAMP:20260423T124028
CREATED:20250525T090019Z
LAST-MODIFIED:20250525T090019Z
UID:23756-1748775600-1748797200@salemforallages.org
SUMMARY:Personal Rainbow Aura Photos
DESCRIPTION:What would the world become if everyone saw themselves as an energetic being? Each Personal Rainbow appointment comes with an instant-film aura photo and personalized reading of the colors and patterns. Bring a buddy at no extra charge to see your vibe as a dynamic duo! Book ahead as walk-ins fill up quickly\, appointments available Thursday-Monday.
URL:https://salemforallages.org/event/personal-rainbow-aura-photos-9/
ATTACH;FMTTYPE=image/jpeg:https://salemforallages.org/wp-content/uploads/2025/05/aura-photos-hauswitch-salem-2-2.jpg
END:VEVENT
BEGIN:VEVENT
DTSTART;TZID=America/New_York:20250601T110000
DTEND;TZID=America/New_York:20250601T170000
DTSTAMP:20260423T124028
CREATED:20250525T090019Z
LAST-MODIFIED:20250525T090019Z
UID:23755-1748775600-1748797200@salemforallages.org
SUMMARY:Personal Rainbow Aura Photos
DESCRIPTION:What would the world become if everyone saw themselves as an energetic being? Each Personal Rainbow appointment comes with an instant-film aura photo and personalized reading of the colors and patterns. Bring a buddy at no extra charge to see your vibe as a dynamic duo! Book ahead as walk-ins fill up quickly\, appointments available Thursday-Monday.
URL:https://salemforallages.org/event/personal-rainbow-aura-photos-8/
ATTACH;FMTTYPE=image/jpeg:https://salemforallages.org/wp-content/uploads/2025/05/aura-photos-hauswitch-salem-2-1.jpg
END:VEVENT
BEGIN:VEVENT
DTSTART;TZID=America/New_York:20250601T113000
DTEND;TZID=America/New_York:20250601T140000
DTSTAMP:20260423T124028
CREATED:20250526T090016Z
LAST-MODIFIED:20250526T090016Z
UID:23772-1748777400-1748786400@salemforallages.org
SUMMARY:Rainbow Hat Decorating
DESCRIPTION:Stop In For a Spell: DIY Witch Hat Decorating \nFly into The Good Witch and Stay for a Spell! Design your own enchanting creation at the Good Witch of Salem’s Hat Decorating Station! Add ribbons\, tulle\, lace\, roses\, stickers\, and shimmering gems to craft a one-of-a-kind witch hat\, then complete your magical masterpiece with an inspiring affirmation card.
URL:https://salemforallages.org/event/rainbow-hat-decorating-2/
ATTACH;FMTTYPE=image/png:https://salemforallages.org/wp-content/uploads/2025/05/Rainbow-Hat-Decorating-1.png
END:VEVENT
BEGIN:VEVENT
DTSTART;TZID=America/New_York:20250601T113000
DTEND;TZID=America/New_York:20250601T140000
DTSTAMP:20260423T124028
CREATED:20250526T090016Z
LAST-MODIFIED:20250526T090016Z
UID:23773-1748777400-1748786400@salemforallages.org
SUMMARY:Rainbow Hat Decorating
DESCRIPTION:Stop In For a Spell: DIY Witch Hat Decorating \nFly into The Good Witch and Stay for a Spell! Design your own enchanting creation at the Good Witch of Salem’s Hat Decorating Station! Add ribbons\, tulle\, lace\, roses\, stickers\, and shimmering gems to craft a one-of-a-kind witch hat\, then complete your magical masterpiece with an inspiring affirmation card.
URL:https://salemforallages.org/event/rainbow-hat-decorating-3/
ATTACH;FMTTYPE=image/png:https://salemforallages.org/wp-content/uploads/2025/05/Rainbow-Hat-Decorating-1.png
END:VEVENT
BEGIN:VEVENT
DTSTART;TZID=America/New_York:20250601T113000
DTEND;TZID=America/New_York:20250601T140000
DTSTAMP:20260423T124028
CREATED:20250526T090018Z
LAST-MODIFIED:20250526T090018Z
UID:23775-1748777400-1748786400@salemforallages.org
SUMMARY:The Good Witch of Salem’s Sunny Days Potion
DESCRIPTION:Fly into The Good Witch and Stay for a Spell! Step into the DIY Good Witch of Salem’s Potion Bar\, where you can mix your very own magical potion creations! Choose your ingredients\, sprinkle in magical moondust\, add in your golden heart intentions\, and seal with a special charm to take home the enchantment!
URL:https://salemforallages.org/event/the-good-witch-of-salems-sunny-days-potion/
ATTACH;FMTTYPE=image/jpeg:https://salemforallages.org/wp-content/uploads/2025/05/Sunny-Day-scaled-1.jpg
END:VEVENT
BEGIN:VEVENT
DTSTART;TZID=America/New_York:20250601T113000
DTEND;TZID=America/New_York:20250601T140000
DTSTAMP:20260423T124028
CREATED:20250526T090021Z
LAST-MODIFIED:20250526T090021Z
UID:23777-1748777400-1748786400@salemforallages.org
SUMMARY:Rainbow Broom Decorating
DESCRIPTION:Fly into The Good Witch and Stay for a Spell! Unleash your creativity at the Good Witch of Salem’s Broom Decorating Station\, where you can transform a broom into a magical masterpiece! Use enchanting tape\, colorful ribbons\, sparkling stickers\, and shimmering gems to create a broom that’s uniquely yours.
URL:https://salemforallages.org/event/rainbow-broom-decorating-3/
ATTACH;FMTTYPE=image/png:https://salemforallages.org/wp-content/uploads/2025/05/Rainbow-Broom-Decorating-1.png
END:VEVENT
BEGIN:VEVENT
DTSTART;TZID=America/New_York:20250601T113000
DTEND;TZID=America/New_York:20250601T140000
DTSTAMP:20260423T124028
CREATED:20250526T090023Z
LAST-MODIFIED:20250526T090023Z
UID:23779-1748777400-1748786400@salemforallages.org
SUMMARY:The Good Witch of Salem’s Sunny Days Potion
DESCRIPTION:Fly into The Good Witch and Stay for a Spell! Step into the DIY Good Witch of Salem’s Potion Bar\, where you can mix your very own magical potion creations! Choose your ingredients\, sprinkle in magical moondust\, add in your golden heart intentions\, and seal with a special charm to take home the enchantment!
URL:https://salemforallages.org/event/the-good-witch-of-salems-sunny-days-potion-2/
ATTACH;FMTTYPE=image/jpeg:https://salemforallages.org/wp-content/uploads/2025/05/Sunny-Day-scaled-2.jpg
END:VEVENT
BEGIN:VEVENT
DTSTART;TZID=America/New_York:20250601T113000
DTEND;TZID=America/New_York:20250601T140000
DTSTAMP:20260423T124028
CREATED:20250526T090026Z
LAST-MODIFIED:20250526T090026Z
UID:23783-1748777400-1748786400@salemforallages.org
SUMMARY:Rainbow Broom Decorating
DESCRIPTION:Fly into The Good Witch and Stay for a Spell! Unleash your creativity at the Good Witch of Salem’s Broom Decorating Station\, where you can transform a broom into a magical masterpiece! Use enchanting tape\, colorful ribbons\, sparkling stickers\, and shimmering gems to create a broom that’s uniquely yours.
URL:https://salemforallages.org/event/rainbow-broom-decorating-4/
ATTACH;FMTTYPE=image/png:https://salemforallages.org/wp-content/uploads/2025/05/Rainbow-Broom-Decorating-1.png
END:VEVENT
BEGIN:VEVENT
DTSTART;TZID=America/New_York:20250601T113000
DTEND;TZID=America/New_York:20250601T150000
DTSTAMP:20260423T124028
CREATED:20250526T090008Z
LAST-MODIFIED:20250526T090008Z
UID:23764-1748777400-1748790000@salemforallages.org
SUMMARY:Stop In For a Spell: DIY Potion Bar
DESCRIPTION:Fly in to The Good Witch and Stay for a Spell! Mix up your very own potion at our Potion Bar! \nDrop Ins begin at store opening and end 30 minutes before closing and are offered on a first come\, first serve basis. Purchase online or pay in store. \nDrop Ins may be unavailable during a birthday party or store event. Please call ahead\, or check our posted hours on Google. \nUnder age 4 may participate with the help of a supervising adult.
URL:https://salemforallages.org/event/stop-in-for-a-spell-diy-potion-bar-238/
ATTACH;FMTTYPE=image/jpeg:https://salemforallages.org/wp-content/uploads/2025/05/Stop-In-For-a-Spell-SQUARE-10.jpg
END:VEVENT
BEGIN:VEVENT
DTSTART;TZID=America/New_York:20250601T113000
DTEND;TZID=America/New_York:20250601T150000
DTSTAMP:20260423T124028
CREATED:20250526T090008Z
LAST-MODIFIED:20250526T090008Z
UID:23765-1748777400-1748790000@salemforallages.org
SUMMARY:Stop In For a Spell: DIY Potion Bar
DESCRIPTION:Fly in to The Good Witch and Stay for a Spell! Mix up your very own potion at our Potion Bar! \nDrop Ins begin at store opening and end 30 minutes before closing and are offered on a first come\, first serve basis. Purchase online or pay in store. \nDrop Ins may be unavailable during a birthday party or store event. Please call ahead\, or check our posted hours on Google. \nUnder age 4 may participate with the help of a supervising adult.
URL:https://salemforallages.org/event/stop-in-for-a-spell-diy-potion-bar-239/
ATTACH;FMTTYPE=image/jpeg:https://salemforallages.org/wp-content/uploads/2025/05/Stop-In-For-a-Spell-SQUARE-11.jpg
END:VEVENT
BEGIN:VEVENT
DTSTART;TZID=America/New_York:20250601T113000
DTEND;TZID=America/New_York:20250601T150000
DTSTAMP:20260423T124028
CREATED:20250526T090012Z
LAST-MODIFIED:20250526T090012Z
UID:23768-1748777400-1748790000@salemforallages.org
SUMMARY:Potion Brewing Store Experience
DESCRIPTION:Make your visit to The Good Witch of Salem’s shop memorable by booking our in-store Potion Brewing Experience. This activity is led by our Witch Apprentices. \nActivities are recommended for children ages 3 and up. \n*One appointment slot for each child is required.*
URL:https://salemforallages.org/event/potion-brewing-store-experience-342/
ATTACH;FMTTYPE=image/jpeg:https://salemforallages.org/wp-content/uploads/2025/05/Potion-Brewing-Store-Experience-27.jpg
END:VEVENT
BEGIN:VEVENT
DTSTART;TZID=America/New_York:20250601T113000
DTEND;TZID=America/New_York:20250601T150000
DTSTAMP:20260423T124028
CREATED:20250526T090012Z
LAST-MODIFIED:20250526T090012Z
UID:23769-1748777400-1748790000@salemforallages.org
SUMMARY:Potion Brewing Store Experience
DESCRIPTION:Make your visit to The Good Witch of Salem’s shop memorable by booking our in-store Potion Brewing Experience. This activity is led by our Witch Apprentices. \nActivities are recommended for children ages 3 and up. \n*One appointment slot for each child is required.*
URL:https://salemforallages.org/event/potion-brewing-store-experience-343/
ATTACH;FMTTYPE=image/jpeg:https://salemforallages.org/wp-content/uploads/2025/05/Potion-Brewing-Store-Experience-28.jpg
END:VEVENT
BEGIN:VEVENT
DTSTART;TZID=America/New_York:20250601T113000
DTEND;TZID=America/New_York:20250601T153000
DTSTAMP:20260423T124028
CREATED:20250526T090007Z
LAST-MODIFIED:20250526T090007Z
UID:23762-1748777400-1748791800@salemforallages.org
SUMMARY:Magical Transformations
DESCRIPTION:Through our “Magical Transformations” children embrace their charms and express their individuality. Children can choose to transform into a “Witch” or “Wizard”!
URL:https://salemforallages.org/event/magical-transformations-350/
ATTACH;FMTTYPE=image/png:https://salemforallages.org/wp-content/uploads/2024/08/Transformations-1.png
END:VEVENT
BEGIN:VEVENT
DTSTART;TZID=America/New_York:20250601T113000
DTEND;TZID=America/New_York:20250601T153000
DTSTAMP:20260423T124028
CREATED:20250526T090007Z
LAST-MODIFIED:20250526T090007Z
UID:23763-1748777400-1748791800@salemforallages.org
SUMMARY:Magical Transformations
DESCRIPTION:Through our “Magical Transformations” children embrace their charms and express their individuality. Children can choose to transform into a “Witch” or “Wizard”!
URL:https://salemforallages.org/event/magical-transformations-350/
ATTACH;FMTTYPE=image/png:https://salemforallages.org/wp-content/uploads/2024/08/Transformations-1.png
END:VEVENT
BEGIN:VEVENT
DTSTART;TZID=America/New_York:20250601T120000
DTEND;TZID=America/New_York:20250601T180000
DTSTAMP:20260423T124028
CREATED:20250526T090025Z
LAST-MODIFIED:20250526T090025Z
UID:23781-1748779200-1748800800@salemforallages.org
SUMMARY:Notch Polish Fest
DESCRIPTION:Our yearly celebration of Polish culture in Salem returns! Live polka music\, Polish food\, and two Notch Polish style beers! Sunday\, June 1st\, 12:00 to 6:00pm\, FREE ADMISSION!
URL:https://salemforallages.org/event/notch-polish-fest/
ATTACH;FMTTYPE=image/jpeg:https://salemforallages.org/wp-content/uploads/2025/05/Notch_PolishFest2025_Feed-1.jpg
END:VEVENT
BEGIN:VEVENT
DTSTART;TZID=America/New_York:20250601T120000
DTEND;TZID=America/New_York:20250601T180000
DTSTAMP:20260423T124028
CREATED:20250526T090027Z
LAST-MODIFIED:20250526T090027Z
UID:23784-1748779200-1748800800@salemforallages.org
SUMMARY:Notch Polish Fest
DESCRIPTION:Our yearly celebration of Polish culture in Salem returns! Live polka music\, Polish food\, and two Notch Polish style beers! Sunday\, June 1st\, 12:00 to 6:00pm\, FREE ADMISSION!
URL:https://salemforallages.org/event/notch-polish-fest-2/
ATTACH;FMTTYPE=image/jpeg:https://salemforallages.org/wp-content/uploads/2025/05/Notch_PolishFest2025_Feed-1.jpg
END:VEVENT
BEGIN:VEVENT
DTSTART;TZID=America/New_York:20250601T170000
DTEND;TZID=America/New_York:20250601T170000
DTSTAMP:20260423T124028
CREATED:20250529T090005Z
LAST-MODIFIED:20250529T090005Z
UID:23800-1748797200-1748797200@salemforallages.org
SUMMARY:North Shore Pride Presents: Pride through Music
DESCRIPTION:With Thorgy Thor and the Cape Ann Symphony \nNorth Shore Pride invites you to celebrate and kick off Pride month with a unique event for all ages entitled Pride Through Music. \nVIP tickets available! Get the best seats in the house and a meet and greet post show with Thorgy Thor. \nThis is a first of its kind prideful and professional concert event\, the likes of which you have never seen before. Under the direction of Maestro Yoichi Udagawa with the Cape Ann Symphony musicians and starring renown celebrity Soloist\, Thorgy Thor an American drag artist and professional classical musician who cam
URL:https://salemforallages.org/event/north-shore-pride-presents-pride-through-music/
ATTACH;FMTTYPE=image/png:https://salemforallages.org/wp-content/uploads/2025/05/pride-through-music-banner-e1748367359642.png
END:VEVENT
BEGIN:VEVENT
DTSTART;TZID=America/New_York:20250602T113000
DTEND;TZID=America/New_York:20250602T160000
DTSTAMP:20260423T124028
CREATED:20250527T090006Z
LAST-MODIFIED:20250527T090006Z
UID:23785-1748863800-1748880000@salemforallages.org
SUMMARY:Magical Transformations
DESCRIPTION:Through our “Magical Transformations” children embrace their charms and express their individuality. Children can choose to transform into a “Witch” or “Wizard”!
URL:https://salemforallages.org/event/magical-transformations-351/
ATTACH;FMTTYPE=image/png:https://salemforallages.org/wp-content/uploads/2024/08/Transformations.png
END:VEVENT
BEGIN:VEVENT
DTSTART;TZID=America/New_York:20250602T113000
DTEND;TZID=America/New_York:20250602T160000
DTSTAMP:20260423T124028
CREATED:20250527T090006Z
LAST-MODIFIED:20250527T090006Z
UID:23786-1748863800-1748880000@salemforallages.org
SUMMARY:Magical Transformations
DESCRIPTION:Through our “Magical Transformations” children embrace their charms and express their individuality. Children can choose to transform into a “Witch” or “Wizard”!
URL:https://salemforallages.org/event/magical-transformations-352/
ATTACH;FMTTYPE=image/png:https://salemforallages.org/wp-content/uploads/2024/08/Transformations.png
END:VEVENT
BEGIN:VEVENT
DTSTART;TZID=America/New_York:20250602T113000
DTEND;TZID=America/New_York:20250602T160000
DTSTAMP:20260423T124028
CREATED:20250527T090007Z
LAST-MODIFIED:20250527T090007Z
UID:23787-1748863800-1748880000@salemforallages.org
SUMMARY:Potion Brewing Store Experience
DESCRIPTION:Make your visit to The Good Witch of Salem’s shop memorable by booking our in-store Potion Brewing Experience. This activity is led by our Witch Apprentices. \nActivities are recommended for children ages 3 and up. \n*One appointment slot for each child is required.*
URL:https://salemforallages.org/event/potion-brewing-store-experience-344/
ATTACH;FMTTYPE=image/jpeg:https://salemforallages.org/wp-content/uploads/2025/05/Potion-Brewing-Store-Experience-29.jpg
END:VEVENT
BEGIN:VEVENT
DTSTART;TZID=America/New_York:20250602T113000
DTEND;TZID=America/New_York:20250602T160000
DTSTAMP:20260423T124028
CREATED:20250527T090008Z
LAST-MODIFIED:20250527T090008Z
UID:23788-1748863800-1748880000@salemforallages.org
SUMMARY:Potion Brewing Store Experience
DESCRIPTION:Make your visit to The Good Witch of Salem’s shop memorable by booking our in-store Potion Brewing Experience. This activity is led by our Witch Apprentices. \nActivities are recommended for children ages 3 and up. \n*One appointment slot for each child is required.*
URL:https://salemforallages.org/event/potion-brewing-store-experience-345/
ATTACH;FMTTYPE=image/jpeg:https://salemforallages.org/wp-content/uploads/2025/05/Potion-Brewing-Store-Experience-30.jpg
END:VEVENT
BEGIN:VEVENT
DTSTART;TZID=America/New_York:20250602T120000
DTEND;TZID=America/New_York:20250602T160000
DTSTAMP:20260423T124028
CREATED:20250527T090012Z
LAST-MODIFIED:20250527T090012Z
UID:23791-1748865600-1748880000@salemforallages.org
SUMMARY:Personal Rainbow Aura Photos
DESCRIPTION:What would the world become if everyone saw themselves as an energetic being? Each Personal Rainbow appointment comes with an instant-film aura photo and personalized reading of the colors and patterns. Bring a buddy at no extra charge to see your vibe as a dynamic duo! Book ahead as walk-ins fill up quickly\, appointments available Thursday-Monday.
URL:https://salemforallages.org/event/personal-rainbow-aura-photos-10/
ATTACH;FMTTYPE=image/jpeg:https://salemforallages.org/wp-content/uploads/2025/05/aura-photos-hauswitch-salem-3-1.jpg
END:VEVENT
BEGIN:VEVENT
DTSTART;TZID=America/New_York:20250602T120000
DTEND;TZID=America/New_York:20250602T160000
DTSTAMP:20260423T124028
CREATED:20250527T090012Z
LAST-MODIFIED:20250527T090012Z
UID:23792-1748865600-1748880000@salemforallages.org
SUMMARY:Personal Rainbow Aura Photos
DESCRIPTION:What would the world become if everyone saw themselves as an energetic being? Each Personal Rainbow appointment comes with an instant-film aura photo and personalized reading of the colors and patterns. Bring a buddy at no extra charge to see your vibe as a dynamic duo! Book ahead as walk-ins fill up quickly\, appointments available Thursday-Monday.
URL:https://salemforallages.org/event/personal-rainbow-aura-photos-11/
ATTACH;FMTTYPE=image/jpeg:https://salemforallages.org/wp-content/uploads/2025/05/aura-photos-hauswitch-salem-3-2.jpg
END:VEVENT
BEGIN:VEVENT
DTSTART;TZID=America/New_York:20250602T190000
DTEND;TZID=America/New_York:20250602T210000
DTSTAMP:20260423T124028
CREATED:20250527T090014Z
LAST-MODIFIED:20250527T090014Z
UID:23795-1748890800-1748898000@salemforallages.org
SUMMARY:Bingo with Great Gaucho
DESCRIPTION:Join us at the Taproom every Monday night for FREE BINGO with Greta Gaucho at 7:00 pm. \nDot it if ya got it for four rounds to win a Far From The Tree gift card and a prize from the fabulous prize basket. \nThe Far From the Tree taproom has an open food policy. (Bring your own food)
URL:https://salemforallages.org/event/bingo-with-great-gaucho-13/
ATTACH;FMTTYPE=image/jpeg:https://salemforallages.org/wp-content/uploads/2025/05/Add-a-subheading-3.jpg
END:VEVENT
BEGIN:VEVENT
DTSTART;TZID=America/New_York:20250602T190000
DTEND;TZID=America/New_York:20250602T210000
DTSTAMP:20260423T124028
CREATED:20250527T090016Z
LAST-MODIFIED:20250527T090016Z
UID:23797-1748890800-1748898000@salemforallages.org
SUMMARY:Bingo with Great Gaucho
DESCRIPTION:Join us at the Taproom every Monday night for FREE BINGO with Greta Gaucho at 7:00 pm. \nDot it if ya got it for four rounds to win a Far From The Tree gift card and a prize from the fabulous prize basket. \nThe Far From the Tree taproom has an open food policy. (Bring your own food)
URL:https://salemforallages.org/event/bingo-with-great-gaucho-14/
ATTACH;FMTTYPE=image/jpeg:https://salemforallages.org/wp-content/uploads/2025/05/Add-a-subheading-4.jpg
END:VEVENT
BEGIN:VEVENT
DTSTART;TZID=America/New_York:20250603T113000
DTEND;TZID=America/New_York:20250603T150000
DTSTAMP:20260423T124028
CREATED:20250529T090009Z
LAST-MODIFIED:20250529T090009Z
UID:23802-1748950200-1748962800@salemforallages.org
SUMMARY:Stop In For a Spell: DIY Potion Bar
DESCRIPTION:Fly in to The Good Witch and Stay for a Spell! Mix up your very own potion at our Potion Bar! \nDrop Ins begin at store opening and end 30 minutes before closing and are offered on a first come\, first serve basis. Purchase online or pay in store. \nDrop Ins may be unavailable during a birthday party or store event. Please call ahead\, or check our posted hours on Google. \nUnder age 4 may participate with the help of a supervising adult.
URL:https://salemforallages.org/event/stop-in-for-a-spell-diy-potion-bar-240/
ATTACH;FMTTYPE=image/jpeg:https://salemforallages.org/wp-content/uploads/2025/05/Stop-In-For-a-Spell-SQUARE-12.jpg
END:VEVENT
BEGIN:VEVENT
DTSTART;TZID=America/New_York:20250603T113000
DTEND;TZID=America/New_York:20250603T150000
DTSTAMP:20260423T124028
CREATED:20250529T090012Z
LAST-MODIFIED:20250529T090012Z
UID:23804-1748950200-1748962800@salemforallages.org
SUMMARY:Potion Brewing Store Experience
DESCRIPTION:Make your visit to The Good Witch of Salem’s shop memorable by booking our in-store Potion Brewing Experience. This activity is led by our Witch Apprentices. \nActivities are recommended for children ages 3 and up. \n*One appointment slot for each child is required.*
URL:https://salemforallages.org/event/potion-brewing-store-experience-346/
ATTACH;FMTTYPE=image/jpeg:https://salemforallages.org/wp-content/uploads/2025/05/Potion-Brewing-Store-Experience-31.jpg
END:VEVENT
END:VCALENDAR