BEGIN:VCALENDAR
VERSION:2.0
PRODID:-//Salem for All Ages - ECPv6.15.18//NONSGML v1.0//EN
CALSCALE:GREGORIAN
METHOD:PUBLISH
X-WR-CALNAME:Salem for All Ages
X-ORIGINAL-URL:https://salemforallages.org
X-WR-CALDESC:Events for Salem for All Ages
REFRESH-INTERVAL;VALUE=DURATION:PT1H
X-Robots-Tag:noindex
X-PUBLISHED-TTL:PT1H
BEGIN:VTIMEZONE
TZID:America/New_York
BEGIN:DAYLIGHT
TZOFFSETFROM:-0500
TZOFFSETTO:-0400
TZNAME:EDT
DTSTART:20230312T070000
END:DAYLIGHT
BEGIN:STANDARD
TZOFFSETFROM:-0400
TZOFFSETTO:-0500
TZNAME:EST
DTSTART:20231105T060000
END:STANDARD
BEGIN:DAYLIGHT
TZOFFSETFROM:-0500
TZOFFSETTO:-0400
TZNAME:EDT
DTSTART:20240310T070000
END:DAYLIGHT
BEGIN:STANDARD
TZOFFSETFROM:-0400
TZOFFSETTO:-0500
TZNAME:EST
DTSTART:20241103T060000
END:STANDARD
BEGIN:DAYLIGHT
TZOFFSETFROM:-0500
TZOFFSETTO:-0400
TZNAME:EDT
DTSTART:20250309T070000
END:DAYLIGHT
BEGIN:STANDARD
TZOFFSETFROM:-0400
TZOFFSETTO:-0500
TZNAME:EST
DTSTART:20251102T060000
END:STANDARD
END:VTIMEZONE
BEGIN:VEVENT
DTSTART;TZID=America/New_York:20240305T180000
DTEND;TZID=America/New_York:20240305T200000
DTSTAMP:20260423T034304
CREATED:20240225T100009Z
LAST-MODIFIED:20240225T100009Z
UID:17981-1709661600-1709668800@salemforallages.org
SUMMARY:CREATIVITEA with Salem Art Gallery
DESCRIPTION:Join us for high tea\, arts and crafts\, and creative company every other Tuesday evening from 6:00pm – 8:00pm. Get an after hours look at the gallery with light snacks and refreshments. Tickets are $6.66 – Which includes admissions\, supplies\, and Tea sampling.
URL:https://salemforallages.org/event/creativitea-with-salem-art-gallery-2/
END:VEVENT
BEGIN:VEVENT
DTSTART;TZID=America/New_York:20240305T183000
DTEND;TZID=America/New_York:20240305T210000
DTSTAMP:20260423T034304
CREATED:20240229T100016Z
LAST-MODIFIED:20240229T100016Z
UID:18011-1709663400-1709672400@salemforallages.org
SUMMARY:Wines Around the World – Special Event Ticket Only Cocktail Party
DESCRIPTION:Turner’s Seafood\, Salem Wine Store\, and Carolina Wines partner to bring you a great night with international food and wine pairings in a casual cocktail party style! Education\, information\, games\, prizes\, and swag enrich this fun experience!
URL:https://salemforallages.org/event/wines-around-the-world-special-event-ticket-only-cocktail-party/
ATTACH;FMTTYPE=image/jpeg:https://salemforallages.org/wp-content/uploads/2024/02/https___cdn.evbuc_.com_images_697088159_110871248815_1_original.jpg
END:VEVENT
BEGIN:VEVENT
DTSTART;TZID=America/New_York:20240306T180000
DTEND;TZID=America/New_York:20240306T200000
DTSTAMP:20260423T034304
CREATED:20240225T100010Z
LAST-MODIFIED:20240225T100010Z
UID:17982-1709748000-1709755200@salemforallages.org
SUMMARY:Bingo at Gulu-Gulu Cafe
DESCRIPTION:Stop by Gulu-Gulu Cafe for a fun trivia series that will excite and engage any audience! Quirky\, funny\, and free!
URL:https://salemforallages.org/event/bingo-at-gulu-gulu-cafe-32/
ATTACH;FMTTYPE=image/jpeg:https://salemforallages.org/wp-content/uploads/2023/08/BingoBoardNew.jpg
END:VEVENT
BEGIN:VEVENT
DTSTART;TZID=America/New_York:20240306T183000
DTEND;TZID=America/New_York:20240306T193000
DTSTAMP:20260423T034304
CREATED:20240305T100008Z
LAST-MODIFIED:20240305T100008Z
UID:18051-1709749800-1709753400@salemforallages.org
SUMMARY:Irish Session at East Regiment Beer Co
DESCRIPTION:Hosted by Bob Strom\, enjoy a night of traditional folk music with a Celtic twist. Grab your fiddle or any other instrument and get ready to dance! \nBob and Jen play together regularly north-of-Boston at sessions\, Irish Pubs and local festivals. Though Jen began as mainly a contra-dance fiddler\, she is now a serious Irish fiddler as well as a singer of traditional songs from the British Isles\, American ballads and contemporary folk songs\, backed-up by Bob’s tasteful guitar work.
URL:https://salemforallages.org/event/irish-session-at-east-regiment-beer-co-4/
ATTACH;FMTTYPE=image/jpeg:https://salemforallages.org/wp-content/uploads/2023/10/IrishSession.jpg
END:VEVENT
BEGIN:VEVENT
DTSTART;TZID=America/New_York:20240306T183000
DTEND;TZID=America/New_York:20240306T203000
DTSTAMP:20260423T034304
CREATED:20240225T100011Z
LAST-MODIFIED:20240225T100011Z
UID:17983-1709749800-1709757000@salemforallages.org
SUMMARY:SKEEBALL NIGHT at Notch Brewing
DESCRIPTION:Join us each Wednesday night for some beer and Skee Ball!
URL:https://salemforallages.org/event/skeeball-night-at-notch-brewing-4/
ATTACH;FMTTYPE=image/jpeg:https://salemforallages.org/wp-content/uploads/2024/02/SKEEBALLFLYER.jpg
END:VEVENT
BEGIN:VEVENT
DTSTART;TZID=America/New_York:20240306T190000
DTEND;TZID=America/New_York:20240306T210000
DTSTAMP:20260423T034304
CREATED:20240225T100011Z
LAST-MODIFIED:20240225T100011Z
UID:17984-1709751600-1709758800@salemforallages.org
SUMMARY:Small Batch Trivia With Geeks Who Drink
DESCRIPTION:Join us each Wednesday for 2 hours of general knowledge\, pop culture trivia hosted by our friends from Geeks Who Drink! Appropriate for all ages. Prizes for the top two teams! \nSeating starts at 6:45. As of now we are not taking reservations\, and seating is first-come\, first-served. We may implement a call-ahead waitlist or reservations in the future should interest allow.\nOrder minimum: $15 per person. \n*For those of you yearning for the return of Nerd Trivia\, we’re sorry to disappoint. We feel this format will include more people in the fun! We WILL be hosting themed trivia from time to time\, so look for those special events coming soon.
URL:https://salemforallages.org/event/small-batch-trivia-with-geeks-who-drink-6/
ATTACH;FMTTYPE=image/jpeg:https://salemforallages.org/wp-content/uploads/2024/01/419132312_863957225729360_4273940916293433697_n.jpg
END:VEVENT
BEGIN:VEVENT
DTSTART;TZID=America/New_York:20240307T110000
DTEND;TZID=America/New_York:20240307T123000
DTSTAMP:20260423T034304
CREATED:20240225T100012Z
LAST-MODIFIED:20240225T100012Z
UID:17985-1709809200-1709814600@salemforallages.org
SUMMARY:Serhii Plokhii 2024 Hamilton Hall Lecture Series
DESCRIPTION:Serhii Plokhii\, Mykhailo S. Hrushevs’kyi\, Professor of Ukrainian History\, Director of Ukrainian Research Institute\, Harvard University Naval War College \n“The Russian-Ukrainian War: An Historian’s Perspective”
URL:https://salemforallages.org/event/serhii-plokhii-2024-hamilton-hall-lecture-series/
ATTACH;FMTTYPE=image/jpeg:https://salemforallages.org/wp-content/uploads/2024/02/23330_plokhyserhii_ctaniadavignon.jpg
END:VEVENT
BEGIN:VEVENT
DTSTART;TZID=America/New_York:20240307T170000
DTEND;TZID=America/New_York:20240307T210000
DTSTAMP:20260423T034304
CREATED:20240305T100009Z
LAST-MODIFIED:20240305T100009Z
UID:18052-1709830800-1709845200@salemforallages.org
SUMMARY:Ski Tunes & Brewskis
DESCRIPTION:Winter is here! It’s time to start thinking about getting to the mountains hitting the slopes! \nEvery Thursday in December we will have Altitude Tuning onsite from 5-9pm tuning skis and snowboards. Some fresh wax and sharpening the edges\, Altitude Tuning will have your skis and boards ready for the slopes! \nWhy bring them into a shop and have them back in a couple of weeks when you can have them back the same day? Spots are limited each week so arrive early\, grab a beer\, some food\, watch some football and leave ready for ski season! \n$30 for skis \n$35 for snowboards
URL:https://salemforallages.org/event/ski-tunes-brewskis-11/
ATTACH;FMTTYPE=image/jpeg:https://salemforallages.org/wp-content/uploads/2024/01/406521326_18326410930099216_186554129472764993_n.jpg
END:VEVENT
BEGIN:VEVENT
DTSTART;TZID=America/New_York:20240307T180000
DTEND;TZID=America/New_York:20240307T200000
DTSTAMP:20260423T034304
CREATED:20240305T100009Z
LAST-MODIFIED:20240305T100009Z
UID:18053-1709834400-1709841600@salemforallages.org
SUMMARY:Thursday Night Regiment Run Club
DESCRIPTION:Calling all runners! Are you ready to lace up your shoes\, hit the pavement\, and join a fantastic community of like-minded individuals? Look no further than the Thursday Night Regiment\, East Regiment Beer Company’s very own run club\, designed to bring together runners of all levels for an incredible weekly experience. Every Thursday at 6pm.
URL:https://salemforallages.org/event/thursday-night-regiment-run-club-9/
ATTACH;FMTTYPE=image/jpeg:https://salemforallages.org/wp-content/uploads/2024/01/417411302_18330583423099216_2490907441340422180_n.jpg
END:VEVENT
BEGIN:VEVENT
DTSTART;TZID=America/New_York:20240307T180000
DTEND;TZID=America/New_York:20240307T210000
DTSTAMP:20260423T034304
CREATED:20240225T100015Z
LAST-MODIFIED:20240225T100015Z
UID:17987-1709834400-1709845200@salemforallages.org
SUMMARY:Spiritualism Tours of Hammond Castle Museum
DESCRIPTION:Since its completion in 1929\, Hammond Castle Museum has attracted rumors and urban legends of supernatural associations and occult happening. While most of these wild stories can be dismissed as pure fiction\, the building occupies a fascinating place within the broader historical context of the development of spiritualist and spiritualist-adjacent fields in American culture. The spiritualist movement enthralled America’s upper and middle classes during the late 19th and early 20th centuries. Both John Hays Hammond Jr. and his wife\, Irene\, were fascinated with wide-ranging topics including Astrology\, Divination\, Numerology\, Extrasensory Perception (ESP)\, and Mediumship. \nEvery Thursday evening in August\, September\, and October (and even a couple of Wednesday nights in October too) we offer Spiritualism Tours\, This specialty tour explores the history of American spiritualism\, with a particular focus on contextualizing the movement within broader contemporary cultural trends and discussing the Hammonds’ own complicated engagements with these cultural phenomena. From John Hays Hammond Jr.’s attempts to communicate with supernatural entities using a Faraday Cage\, to Irene Hammond’s work on a comprehensive survey of astrological signs; over the course of this approximately 55-minute fully-guided tour\, the dramatic gothic-inspired architecture of the building and night-time atmosphere will set the stage for a fun and informative seasonal experience unlike any other! \nCarry-In/Carry-Out Picnics: Guests may enjoy a carry-in/carry-out picnic on our seaside lawn before their tour on Thursday evenings in August! Reservations are $5 per party and start one hour prior to your ticketed evening tour. Reservations are required in advance.  Hammond Castle Museum members enjoy complimentary picnic reservations.
URL:https://salemforallages.org/event/spiritualism-tours-of-hammond-castle-museum-34/
ATTACH;FMTTYPE=image/jpeg:https://salemforallages.org/wp-content/uploads/2023/08/20200813_115337-1-1.jpg
END:VEVENT
BEGIN:VEVENT
DTSTART;TZID=America/New_York:20240307T183000
DTEND;TZID=America/New_York:20240307T220000
DTSTAMP:20260423T034304
CREATED:20240225T100015Z
LAST-MODIFIED:20240225T100015Z
UID:17988-1709836200-1709848800@salemforallages.org
SUMMARY:Open-Mic Night
DESCRIPTION:Sing\, dance\, or simply witness local musical talent\, or simply witness the chaos of Gulu-Gulu’s open mic. \n  \nThe best open mic in the World\, on the North Shore\, in Salem! Come join the fun every Thursday night! Anything and everything are welcome. Sing\, Dance\, Hum\, Orate\, or simply witness the beautiful chaos that is the Gulu Gulu Open Mic Shindig. Sign-up at 7:30pm.
URL:https://salemforallages.org/event/open-mic-night-32/
ATTACH;FMTTYPE=image/jpeg:https://salemforallages.org/wp-content/uploads/2023/08/image-asset.jpg
END:VEVENT
BEGIN:VEVENT
DTSTART;TZID=America/New_York:20240307T193000
DTEND;TZID=America/New_York:20240307T193000
DTSTAMP:20260423T034304
CREATED:20240225T100015Z
LAST-MODIFIED:20240225T100015Z
UID:17989-1709839800-1709839800@salemforallages.org
SUMMARY:Masters of Illusion at The Cabot
DESCRIPTION:Starring the world’s greatest award-winning magicians\, this 21st-century magic show is unlike anything you have seen before – filled with modern illusions and arts of deception\, performed live on stage. Watch closely as you experience things that just can’t be done……or can they?
URL:https://salemforallages.org/event/masters-of-illusion-at-the-cabot/
ATTACH;FMTTYPE=image/jpeg:https://salemforallages.org/wp-content/uploads/2024/02/eg_600-2.jpg
END:VEVENT
BEGIN:VEVENT
DTSTART;TZID=America/New_York:20240308T180000
DTEND;TZID=America/New_York:20240308T193000
DTSTAMP:20260423T034304
CREATED:20240225T100018Z
LAST-MODIFIED:20240225T100018Z
UID:17991-1709920800-1709926200@salemforallages.org
SUMMARY:Floral Arrangement Class with the Dirt Empress
DESCRIPTION:Create bright and whimsical arrangements of flowers to take home with you at the Coach House. Light refreshments\, drinks\, and tools will be provided.
URL:https://salemforallages.org/event/floral-arrangement-class-with-the-dirt-empress/
ATTACH;FMTTYPE=image/jpeg:https://salemforallages.org/wp-content/uploads/2024/02/The-Coach-House-Class_1.jpg
END:VEVENT
BEGIN:VEVENT
DTSTART;TZID=America/New_York:20240308T180000
DTEND;TZID=America/New_York:20240308T210000
DTSTAMP:20260423T034304
CREATED:20240305T100010Z
LAST-MODIFIED:20240305T100010Z
UID:18054-1709920800-1709931600@salemforallages.org
SUMMARY:Friday Night Music at East Regiment
DESCRIPTION:Enjoy refreshing beer and live music at East Regiment Beer Co! \n  \nMarch 8th Judes and the Hutch  \nMarch 15th Dylan Moore \nMarch 22nd Stone Foundation  \nMarch 29th Tokyo Tramps \n 
URL:https://salemforallages.org/event/friday-night-music-at-east-regiment-31/
ATTACH;FMTTYPE=image/jpeg:https://salemforallages.org/wp-content/uploads/2024/01/Instagram-Images-2024-01-09T114006.140.jpg
END:VEVENT
BEGIN:VEVENT
DTSTART;TZID=America/New_York:20240308T190000
DTEND;TZID=America/New_York:20240308T210000
DTSTAMP:20260423T034304
CREATED:20240226T100010Z
LAST-MODIFIED:20240226T100010Z
UID:17993-1709924400-1709931600@salemforallages.org
SUMMARY:Friday Night Music with American Flatbread
DESCRIPTION:Join us for live music\, enjoy rock and country.
URL:https://salemforallages.org/event/friday-night-music-with-american-flatbread-40/
ATTACH;FMTTYPE=image/jpeg:https://salemforallages.org/wp-content/uploads/2023/06/American-Flatbread-.jpg
END:VEVENT
BEGIN:VEVENT
DTSTART;TZID=America/New_York:20240308T194500
DTEND;TZID=America/New_York:20240308T210000
DTSTAMP:20260423T034304
CREATED:20240227T100013Z
LAST-MODIFIED:20240227T100013Z
UID:18006-1709927100-1709931600@salemforallages.org
SUMMARY:Lecture: Birding & Habitat Restoration on Plum Island
DESCRIPTION:Learn about the incredibly rich biodiversity on Plum Island and the bird communities who call it home.
URL:https://salemforallages.org/event/lecture-birding-habitat-restoration-on-plum-island/
ATTACH;FMTTYPE=image/jpeg:https://salemforallages.org/wp-content/uploads/2024/02/bird-habitats.jpg
END:VEVENT
BEGIN:VEVENT
DTSTART;TZID=America/New_York:20240308T200000
DTEND;TZID=America/New_York:20240308T200000
DTSTAMP:20260423T034304
CREATED:20240226T100013Z
LAST-MODIFIED:20240226T100013Z
UID:17995-1709928000-1709928000@salemforallages.org
SUMMARY:Australian Bee Gees at The Cabot
DESCRIPTION:It’s Saturday Night Fever every night with The Australian Bee Gees Show – A Tribute to the Bee Gees. One of the most successful and adored acts in musical history is recreated on the Vegas stage in a 75-minute multi-media concert event. You’ll hear hits like Staying Alive\, You Should Be Dancing\, How Deep Is Your Love\, and Jive Talkin’.
URL:https://salemforallages.org/event/australian-bee-gees-at-the-cabot/
ATTACH;FMTTYPE=image/jpeg:https://salemforallages.org/wp-content/uploads/2024/02/eg_600-1.jpg
END:VEVENT
BEGIN:VEVENT
DTSTART;TZID=America/New_York:20240308T200000
DTEND;TZID=America/New_York:20240308T230000
DTSTAMP:20260423T034304
CREATED:20240226T100012Z
LAST-MODIFIED:20240226T100012Z
UID:17994-1709928000-1709938800@salemforallages.org
SUMMARY:Friday Night Music with Gulu-Gulu Cafe
DESCRIPTION:Join Gulu-Gulu Cafe Friday nights for their live music series. Bands and musicians range from acoustic guitar\, jazz standards\, saxophones\, trios\, and more! Support live musicians and listen to live music!
URL:https://salemforallages.org/event/friday-night-music-with-gulu-gulu-cafe-32/
ATTACH;FMTTYPE=image/jpeg:https://salemforallages.org/wp-content/uploads/2023/08/38864120_1780760032044977_6011049327684747264_n.jpg
END:VEVENT
BEGIN:VEVENT
DTSTART;TZID=America/New_York:20240309T080000
DTEND;TZID=America/New_York:20240309T170000
DTSTAMP:20260423T034304
CREATED:20240226T100015Z
LAST-MODIFIED:20240226T100015Z
UID:17997-1709971200-1710003600@salemforallages.org
SUMMARY:Book a “Good Witch Magical Transformation”
DESCRIPTION:Children\, tweens\, teens\, and adults are all welcome to participate in our “Good Witch Transformations”! \nThrough our transformations children unleash their own spellbinding charms and embrace their individuality. Children are invited to browse our collection of witch hats and dresses. Adorned with shimmering stars\, flowing capes\, and ribbons of enchantment\, these outfits are sure to celebrate their unique spirits. \nOur talented apprentices delicately apply a touch of stardust and add sprinkles of color that match your child’s vibrant personality. As they gaze upon their reflection\, their eyes light up with a newfound confidence and a sense of whimsical delight. They have become the magical beings they’ve always dreamt of\, casting spells and brewing potions in their imaginary world. Their laughter fills the air as they twirl and spin\, radiating with joy and wonder.
URL:https://salemforallages.org/event/book-a-good-witch-magical-transformation-25/
ATTACH;FMTTYPE=image/jpeg:https://salemforallages.org/wp-content/uploads/2023/08/magical-transoformations-.jpg
END:VEVENT
BEGIN:VEVENT
DTSTART;TZID=America/New_York:20240309T100000
DTEND;TZID=America/New_York:20240309T140000
DTSTAMP:20260423T034304
CREATED:20240226T100016Z
LAST-MODIFIED:20240226T100016Z
UID:17998-1709978400-1709992800@salemforallages.org
SUMMARY:Book a “Good Witch Transformation”
DESCRIPTION:Thank you for your interest in a “Good Witch” Transformation! \nThrough our transformations children unleash their own spellbinding charms and embrace their individuality. Children are invited to browse our collection of witch hats and dresses. Adorned with shimmering stars\, flowing capes\, and ribbons of enchantment\, these outfits are sure to celebrate their unique spirits. \nOur talented apprentices delicately apply a touch of stardust and add sprinkles of color that match your child’s vibrant personality. As they gaze upon their reflection\, their eyes light up with a newfound confidence and a sense of whimsical delight. They have become the magical beings they’ve always dreamt of\, casting spells and brewing potions in their imaginary world. Their laughter fills the air as they twirl and spin\, radiating with joy and wonder.
URL:https://salemforallages.org/event/book-a-good-witch-transformation-81/
END:VEVENT
BEGIN:VEVENT
DTSTART;TZID=America/New_York:20240309T103000
DTEND;TZID=America/New_York:20240309T113000
DTSTAMP:20260423T034304
CREATED:20240226T100016Z
LAST-MODIFIED:20240226T100016Z
UID:18000-1709980200-1709983800@salemforallages.org
SUMMARY:Mr. Aaron Band
DESCRIPTION:KIDS AT THE CABOT \nWith years of experience performing and teaching\, Mr. Aaron brings unparalleled energy\, enthusiasm and creativity to his concerts\, albums\, and videos. Count on a thrilling musical adventure at Mr. Aaron’s live show\, which weaves storytelling (think tea parties for giants and a duo of friendly robots to name a few) playful music with loads of instruments\, and great tunes to sing along to.  Aaron was recently named “Best Children’s Performer of 2018 and 2020” by New Hampshire Magazine\, and in 2020 won the prestigious John Lennon Songwriting Award. After nearly 10 years as a professional musician in New York City\, Jones and his family moved to Concord\, NH\, to open a recording studio (Rattlebox Studio). When he’s not performing for kids\, he tours with 90’s alt-rockers Luscious Jackson\, and has been seen on The Late Show with David Letterman\, and VH1.
URL:https://salemforallages.org/event/mr-aaron-band/
ATTACH;FMTTYPE=image/jpeg:https://salemforallages.org/wp-content/uploads/2024/02/0923_KATC_600x4005.jpg
END:VEVENT
BEGIN:VEVENT
DTSTART;TZID=America/New_York:20240309T103000
DTEND;TZID=America/New_York:20240309T123000
DTSTAMP:20260423T034304
CREATED:20240226T100016Z
LAST-MODIFIED:20240226T100016Z
UID:17999-1709980200-1709987400@salemforallages.org
SUMMARY:Process Art Mornings
DESCRIPTION:Informal in-process art making
URL:https://salemforallages.org/event/process-art-mornings-44/
ATTACH;FMTTYPE=image/jpeg:https://salemforallages.org/wp-content/uploads/2023/05/01.jpg
END:VEVENT
BEGIN:VEVENT
DTSTART;TZID=America/New_York:20240309T131500
DTEND;TZID=America/New_York:20240309T141500
DTSTAMP:20260423T034304
CREATED:20240305T100010Z
LAST-MODIFIED:20240305T100010Z
UID:18055-1709990100-1709993700@salemforallages.org
SUMMARY:Women’s History Tour
DESCRIPTION:March is Women’s History Month\, and to celebrate we are offering our Women’s History Tour each Saturday of the month at 1:15 P.M.!\nFrom the Indigenous women who worked the land to our organization’s founder\, women have always been a part of the Turner-Ingersoll Mansion’s history\, but not always given the spotlight they deserve. The House of the Seven Gables has created a Women’s History Tour to focus\, in-depth\, on the many women who have lived and labored in the Mansion.
URL:https://salemforallages.org/event/womens-history-tour-2/
END:VEVENT
BEGIN:VEVENT
DTSTART;TZID=America/New_York:20240309T150000
DTEND;TZID=America/New_York:20240309T163000
DTSTAMP:20260423T034304
CREATED:20240305T100012Z
LAST-MODIFIED:20240305T100012Z
UID:18058-1709996400-1710001800@salemforallages.org
SUMMARY:Herbal Tea Blending Workshop
DESCRIPTION:Making an herbal tea for yourself can be both fun and intimidating! What herbs and how much to use? We’ll help demystify the process and teach you how to come up with a delicious\, healthful blend that is to your taste! Learn about 10 herbs for teas and guidelines for blending\, as well as the health benefits of each of them. We will make and sip blend in class. You will go home with a small bag (up to an ounce) of a blend you have made for yourself\, a handout with information\, and the confidence to keep doing this for yourself\, your family\, and friends.
URL:https://salemforallages.org/event/herbal-tea-blending-workshop/
ATTACH;FMTTYPE=image/jpeg:https://salemforallages.org/wp-content/uploads/2024/03/east-regiment-tea.jpg
END:VEVENT
BEGIN:VEVENT
DTSTART;TZID=America/New_York:20240309T150000
DTEND;TZID=America/New_York:20240309T170000
DTSTAMP:20260423T034304
CREATED:20240305T100010Z
LAST-MODIFIED:20240305T100010Z
UID:18056-1709996400-1710003600@salemforallages.org
SUMMARY:Paint & Sip: Pisces New Moon
DESCRIPTION:Immerse yourself in an enchanting afternoon of creativity and cosmic connection at my Pisces New Moon Painting Experience. Join us as we harness the energy of the Pisces New Moon to inspire artistic expression and intuitive exploration. Guided by Molly of Queen of Cups Apothecary\, a professional artist who is well-versed in both lunar mysticism and the science of manifestation\, you’ll embark on a guided painting journey\, infusing your canvas with the ethereal essence of Pisces symbolism. Through a series of engaging lessons\, meditations\, journaling and hands-on activities\, you will discover the profound impact that syncing your goals with celestial cycles can have on your life. \n  \n**What to Expect:** – Guided meditation to open our intuition and center our intentions. – Guided painting session inspired by the magic of the Pisces New Moon. – Creative atmosphere. – Opportunities for intuitive reflection. – Connect with like-minded souls and tap into your inner artist in a supportive environment. – All skill levels welcome – no prior painting experience necessary! Don’t miss this chance to dive deep into your creativity and embrace the magic of the Pisces New Moon. Secure your spot today and join us for an evening of painting\, passion\, and Piscean enchantment!
URL:https://salemforallages.org/event/paint-sip-pisces-new-moon/
ATTACH;FMTTYPE=image/jpeg:https://salemforallages.org/wp-content/uploads/2024/03/east-regiment-painting.jpg
END:VEVENT
BEGIN:VEVENT
DTSTART;TZID=America/New_York:20240309T200000
DTEND;TZID=America/New_York:20240309T200000
DTSTAMP:20260423T034304
CREATED:20240226T100019Z
LAST-MODIFIED:20240226T100019Z
UID:18002-1710014400-1710014400@salemforallages.org
SUMMARY:Railroad Earth at The Cabot
DESCRIPTION:For over two decades\, Railroad Earth has captivated audiences with gleefully unpredictable live shows and eloquent and elevated studio output. The group introduced its signature sound on 2001’s The Black Bear Sessions. Between selling out hallowed venues such as Red Rocks Amphitheatre in Morrison\, CO\, they’ve launched the longstanding annual Hangtown Music Festival in Placerville\, CA and Hillberry: The Harvest Moon Festival in Ozark\, AR—both running for a decade-plus.
URL:https://salemforallages.org/event/railroad-earth-at-the-cabot/
ATTACH;FMTTYPE=image/jpeg:https://salemforallages.org/wp-content/uploads/2024/02/TaraGracerPhoto-scaled-1.jpeg
END:VEVENT
BEGIN:VEVENT
DTSTART;TZID=America/New_York:20240309T200000
DTEND;TZID=America/New_York:20240309T220000
DTSTAMP:20260423T034304
CREATED:20240308T100007Z
LAST-MODIFIED:20240308T100007Z
UID:18067-1710014400-1710021600@salemforallages.org
SUMMARY:Pentagram After Dark Presents: Movie & Ming
DESCRIPTION:Come join us for a night of **movies** and **mingle** at the Pentagram Shoppe! Get ready to enjoy a fun-filled evening watching “The Secret of Kells”. We have a cozy venue waiting for you at **Pentagram**. Immerse yourself in the magic of this movie with Pagan and Witch themes. \nWe will also be featuring prepared recipes from Celtic Folklore Cooking to sample! \nWe will be offering discounted psychic readings from 7pm to 8pm\, followed by treats and mocktails for your movie viewing. \n100% of Ticket Proceeds go to HAWC (Healing Abuse Working for Change). \nDon’t miss out on this fantastic event! See you at the Pentagram Shoppe Movie & Mingle!
URL:https://salemforallages.org/event/pentagram-after-dark-presents-movie-ming/
ATTACH;FMTTYPE=image/jpeg:https://salemforallages.org/wp-content/uploads/2024/03/https-cdn.evbuc_.com-images-699014029-584722917163-1-original.20240216-215333.jpeg
END:VEVENT
BEGIN:VEVENT
DTSTART;TZID=America/New_York:20240310T100000
DTEND;TZID=America/New_York:20240310T140000
DTSTAMP:20260423T034304
CREATED:20240228T100010Z
LAST-MODIFIED:20240228T100010Z
UID:18008-1710064800-1710079200@salemforallages.org
SUMMARY:Book a “Good Witch Transformation”
DESCRIPTION:Thank you for your interest in a “Good Witch” Transformation! \nThrough our transformations children unleash their own spellbinding charms and embrace their individuality. Children are invited to browse our collection of witch hats and dresses. Adorned with shimmering stars\, flowing capes\, and ribbons of enchantment\, these outfits are sure to celebrate their unique spirits. \nOur talented apprentices delicately apply a touch of stardust and add sprinkles of color that match your child’s vibrant personality. As they gaze upon their reflection\, their eyes light up with a newfound confidence and a sense of whimsical delight. They have become the magical beings they’ve always dreamt of\, casting spells and brewing potions in their imaginary world. Their laughter fills the air as they twirl and spin\, radiating with joy and wonder.
URL:https://salemforallages.org/event/book-a-good-witch-transformation-82/
END:VEVENT
BEGIN:VEVENT
DTSTART;TZID=America/New_York:20240310T143000
DTEND;TZID=America/New_York:20240310T183000
DTSTAMP:20260423T034304
CREATED:20240229T100018Z
LAST-MODIFIED:20240229T100018Z
UID:18013-1710081000-1710095400@salemforallages.org
SUMMARY:Wicked Good Books’ Boozy Book Fair at Deacon Giles Distillery
DESCRIPTION:Join Deacon Giles and Wicked Good Books for a night of Booze and Books!
URL:https://salemforallages.org/event/wicked-good-books-boozy-book-fair-at-deacon-giles-distillery/
ATTACH;FMTTYPE=image/jpeg:https://salemforallages.org/wp-content/uploads/2024/02/DEACON-GILES-X-Wicked-Good-Books.jpg
END:VEVENT
BEGIN:VEVENT
DTSTART;TZID=America/New_York:20240310T160000
DTEND;TZID=America/New_York:20240310T190000
DTSTAMP:20260423T034304
CREATED:20240229T100021Z
LAST-MODIFIED:20240229T100021Z
UID:18015-1710086400-1710097200@salemforallages.org
SUMMARY:DIAMOND’S DINE-IN DRAG BRUNCH!
DESCRIPTION:Come on down for Diamond’s Dine-In Drag Brunch! This is a weekly event with local Drag Queen Miz Diamond Wigfall! Someone will be her guest. Be ready for numbers\, games\, drag\, and mimosas all afternoon.
URL:https://salemforallages.org/event/diamonds-dine-in-drag-brunch-32/
ATTACH;FMTTYPE=image/jpeg:https://salemforallages.org/wp-content/uploads/2023/08/Diamond_DineIn_Final-11x171-1.jpg
END:VEVENT
END:VCALENDAR