BEGIN:VCALENDAR
VERSION:2.0
PRODID:-//Salem for All Ages - ECPv6.15.18//NONSGML v1.0//EN
CALSCALE:GREGORIAN
METHOD:PUBLISH
X-WR-CALNAME:Salem for All Ages
X-ORIGINAL-URL:https://salemforallages.org
X-WR-CALDESC:Events for Salem for All Ages
REFRESH-INTERVAL;VALUE=DURATION:PT1H
X-Robots-Tag:noindex
X-PUBLISHED-TTL:PT1H
BEGIN:VTIMEZONE
TZID:America/New_York
BEGIN:DAYLIGHT
TZOFFSETFROM:-0500
TZOFFSETTO:-0400
TZNAME:EDT
DTSTART:20230312T070000
END:DAYLIGHT
BEGIN:STANDARD
TZOFFSETFROM:-0400
TZOFFSETTO:-0500
TZNAME:EST
DTSTART:20231105T060000
END:STANDARD
BEGIN:DAYLIGHT
TZOFFSETFROM:-0500
TZOFFSETTO:-0400
TZNAME:EDT
DTSTART:20240310T070000
END:DAYLIGHT
BEGIN:STANDARD
TZOFFSETFROM:-0400
TZOFFSETTO:-0500
TZNAME:EST
DTSTART:20241103T060000
END:STANDARD
BEGIN:DAYLIGHT
TZOFFSETFROM:-0500
TZOFFSETTO:-0400
TZNAME:EDT
DTSTART:20250309T070000
END:DAYLIGHT
BEGIN:STANDARD
TZOFFSETFROM:-0400
TZOFFSETTO:-0500
TZNAME:EST
DTSTART:20251102T060000
END:STANDARD
BEGIN:DAYLIGHT
TZOFFSETFROM:-0500
TZOFFSETTO:-0400
TZNAME:EDT
DTSTART:20260308T070000
END:DAYLIGHT
BEGIN:STANDARD
TZOFFSETFROM:-0400
TZOFFSETTO:-0500
TZNAME:EST
DTSTART:20261101T060000
END:STANDARD
END:VTIMEZONE
BEGIN:VEVENT
DTSTART;TZID=America/New_York:20240928T100000
DTEND;TZID=America/New_York:20250615T170000
DTSTAMP:20260422T185356
CREATED:20240920T090023Z
LAST-MODIFIED:20240920T090023Z
UID:20529-1727517600-1750006800@salemforallages.org
SUMMARY:Narwhal: Revealing an Arctic Legend at The PEM
DESCRIPTION:SALEM\, MA –  This fall\, the Peabody Essex Museum (PEM) invites visitors to dive deep into the world of narwhals. These unique ocean dwellers\, sometimes called the “unicorns of the sea\,” spend their lives in the Arctic waters of Canada\, Greenland\, Norway and Russia. Learn about their changing Arctic ecosystem through firsthand accounts of scientists and Inuit community members. Hear soundscapes of the Arctic\, including the evocative vocalizations of the narwhal\, and touch an 8-foot-long cast of a real narwhal tusk. \nOn view in The Dotty Brown Art & Nature Center\, this family-friendly\, interactive exhibition is part of PEM’s interdisciplinary Climate + Environment Initiative. Narwhal: Revealing an Arctic Legend includes contemporary Inuit sculptures and prints and a historic book from PEM’s Phillips Library collection. The exhibition is organized by the Smithsonian Institution Traveling Exhibition Service in collaboration with the Smithsonian’s National Museum of Natural History and is on view at PEM September 28\, 2024 through June 15\, 2025. \nExhibition Opening Celebration: A Narwhal Carnival\nSaturday\, September 28 | 10 am–3 pm | Included with admission\nMeet fantastical marionette puppets walking through the galleries and create your own whimsical sea creature using recycled materials with a local artist. Plus\, enjoy an ocean-themed PEM Pals with us! Designed for children (5 and under) and their caregivers\, PEM Pals aims to engage and excite all of the senses through books\, movement\, music\, art and hands-on activities. Find out more at pem.org. \nWalkabout Puppets with Purple Rock Productions\n10 am–3 pm\nMeet very special marionette characters ready to share their joy and invite playfulness into your museum visit. \nPEM Pals with Teresa Coelho\n10:30–11:30 am | Main Atrium\nMove\, groove\, sing and listen with Teresa Coelho\, director of Music Together® of Salem. Explore ocean animals and stories through music and enjoy a reading of Little Narwhal\, Not Alone by Tiffany Stone. \nDrop-In Art: Recycled Fantastic Creatures\n11 am–3 pm | Create Space Studios\nMeet local artist and art therapist Bruce Orr and explore sea creatures with features and superpowers stranger than fiction! Tinker with a wide variety of recycled materials\, and learn how you can give life to used household items to create new artworks. \nGallery Activation: Get to Know Narwhals\n11 am–3 pm | Exhibition Gallery\nCome curious for a hands-on exploration of what makes narwhals unique at our in-gallery discovery cart.
URL:https://salemforallages.org/event/narwhal-revealing-an-arctic-legend-at-the-pem/
ATTACH;FMTTYPE=image/png:https://salemforallages.org/wp-content/uploads/2024/09/Screen-Shot-2024-08-29-at-11.30.40-AM.png
END:VEVENT
BEGIN:VEVENT
DTSTART;TZID=America/New_York:20250421T080000
DTEND;TZID=America/New_York:20250421T170000
DTSTAMP:20260422T185356
CREATED:20250415T090010Z
LAST-MODIFIED:20250415T090010Z
UID:23243-1745222400-1745254800@salemforallages.org
SUMMARY:Puppy Love Adoption
DESCRIPTION:Hosted By: The Good Witch of Salem\, herself! \nLet’s celebrate Love at a “Puppy Love Adoption Party”! Children will stuff their own 16 inch puppy plush\, create accessories\, and learn about crystal magic!\nThis workshop is limited to 4 children\, pre-registration is required. Under age 4 may attend with the help of a supervising adult.\nDue to space constraints\, please refrain from bringing in strollers and wagons. Ticket purchase only admits one (1) participating child.
URL:https://salemforallages.org/event/puppy-love-adoption/
ATTACH;FMTTYPE=image/jpeg:https://salemforallages.org/wp-content/uploads/2025/02/Puppy-Love-2.jpg
END:VEVENT
BEGIN:VEVENT
DTSTART;TZID=America/New_York:20250421T090000
DTEND;TZID=America/New_York:20250421T153000
DTSTAMP:20260422T185356
CREATED:20250418T090013Z
LAST-MODIFIED:20250418T090013Z
UID:23260-1745226000-1745249400@salemforallages.org
SUMMARY:Eric Pape: The Fair God at Hammond Castle Museum
DESCRIPTION:Self-Guided \nAn extraordinary fine art exhibit featuring over 50 works by renowned artist and former Cape Ann resident\, Eric Pape (1870–1938). Curated predominantly from the private collection of Dr. Gregory Conn\, the world’s leading Pape collector and biographer\, this special exhibition showcases a select group of Pape’s 300 illustrations for The Fair God (1898)—many unseen since his death in 1938.
URL:https://salemforallages.org/event/eric-pape-the-fair-god-at-hammond-castle-museum-4/
ATTACH;FMTTYPE=image/jpeg:https://salemforallages.org/wp-content/uploads/2025/04/CACC_600x900px_20250327-cropped.jpg
END:VEVENT
BEGIN:VEVENT
DTSTART;TZID=America/New_York:20250421T100000
DTEND;TZID=America/New_York:20250421T110000
DTSTAMP:20260422T185356
CREATED:20250415T090011Z
LAST-MODIFIED:20250415T090011Z
UID:23244-1745229600-1745233200@salemforallages.org
SUMMARY:Puppy Love Adoption
DESCRIPTION:Hosted By: The Good Witch of Salem\, herself! \nLet’s celebrate Love at a “Puppy Love Adoption Party”! Children will stuff their own 16 inch puppy plush\, create accessories\, and learn about crystal magic!\nThis workshop is limited to 4 children\, pre-registration is required. Under age 4 may attend with the help of a supervising adult.\nDue to space constraints\, please refrain from bringing in strollers and wagons. Ticket purchase only admits one (1) participating child.
URL:https://salemforallages.org/event/puppy-love-adoption-2/
ATTACH;FMTTYPE=image/jpeg:https://salemforallages.org/wp-content/uploads/2025/02/Puppy-Love-2.jpg
END:VEVENT
BEGIN:VEVENT
DTSTART;TZID=America/New_York:20250421T100000
DTEND;TZID=America/New_York:20250421T160000
DTSTAMP:20260422T185356
CREATED:20250415T090011Z
LAST-MODIFIED:20250415T090011Z
UID:23245-1745229600-1745251200@salemforallages.org
SUMMARY:Essex County Days
DESCRIPTION:The House of the Seven Gables is welcoming our neighbors to visit for free this April school vacation with Essex County Days! \nApril 21-25\, families and individuals living in Essex County can visit The Gables on us! Tickets should be purchased in person with a valid ID or recent utility bill with appropriate address within Essex County. \nPlease note: The House of the Seven Gables is open 10 A.M. – 4 P.M.
URL:https://salemforallages.org/event/essex-county-days/
ATTACH;FMTTYPE=image/jpeg:https://salemforallages.org/wp-content/uploads/2025/04/Gables_PhotographyYourWay-scaled-1.jpg
END:VEVENT
BEGIN:VEVENT
DTSTART;TZID=America/New_York:20250421T113000
DTEND;TZID=America/New_York:20250421T160000
DTSTAMP:20260422T185356
CREATED:20250416T090009Z
LAST-MODIFIED:20250416T090009Z
UID:23247-1745235000-1745251200@salemforallages.org
SUMMARY:Magical Transformations
DESCRIPTION:Through our “Magical Transformations” children embrace their charms and express their individuality. Children can choose to transform into a “Witch” or “Wizard”!
URL:https://salemforallages.org/event/magical-transformations-308/
ATTACH;FMTTYPE=image/png:https://salemforallages.org/wp-content/uploads/2024/08/Transformations.png
END:VEVENT
BEGIN:VEVENT
DTSTART;TZID=America/New_York:20250421T113000
DTEND;TZID=America/New_York:20250421T160000
DTSTAMP:20260422T185356
CREATED:20250416T090010Z
LAST-MODIFIED:20250416T090010Z
UID:23248-1745235000-1745251200@salemforallages.org
SUMMARY:Potion Brewing Store Experience
DESCRIPTION:Make your visit to The Good Witch of Salem’s shop memorable by booking our in-store Potion Brewing Experience. This activity is led by our Witch Apprentices. \nActivities are recommended for children ages 3 and up. \n*One appointment slot for each child is required.*
URL:https://salemforallages.org/event/potion-brewing-store-experience-300/
ATTACH;FMTTYPE=image/jpeg:https://salemforallages.org/wp-content/uploads/2025/04/Potion-Brewing-Store-Experience-14.jpg
END:VEVENT
BEGIN:VEVENT
DTSTART;TZID=America/New_York:20250421T190000
DTEND;TZID=America/New_York:20250421T203000
DTSTAMP:20260422T185356
CREATED:20250416T090020Z
LAST-MODIFIED:20250416T090020Z
UID:23252-1745262000-1745267400@salemforallages.org
SUMMARY:Vibrato Bar: What the Fach? Miscast Cabaret Edition
DESCRIPTION:Join us at the Vibrato Bar – the North Shore’s ONLY classical karaoke bar!\nApril 21 Vibrato Bar- Open mic party\nTheme: What the Fach? Miscast Cabaret\nThis is your chance to sing that aria they told you you’d never perform.\nNot a Verdi tenor? Don’t care. Have you heard that one aria so many times you could sing it in your sleep? Go for it. Do you have the high notes for Queen of the Night\, but would never get cast in the role? Do. Ittttttt.\nWe’ve got a world class pianist who can sight read anything (yes\, really)\, so bring your sheet music and your courage\, and come here the music play!
URL:https://salemforallages.org/event/vibrato-bar-what-the-fach-miscast-cabaret-edition/
ATTACH;FMTTYPE=image/jpeg:https://salemforallages.org/wp-content/uploads/2025/04/Vibrato-Bar.jpg
END:VEVENT
BEGIN:VEVENT
DTSTART;TZID=America/New_York:20250421T190000
DTEND;TZID=America/New_York:20250421T210000
DTSTAMP:20260422T185356
CREATED:20250416T090016Z
LAST-MODIFIED:20250416T090016Z
UID:23250-1745262000-1745269200@salemforallages.org
SUMMARY:Bingo with Great Gaucho
DESCRIPTION:Join us at the Taproom every Monday night for FREE BINGO with Greta Gaucho at 7:00 pm. \nDot it if ya got it for four rounds to win a Far From The Tree gift card and a prize from the fabulous prize basket. \nThe Far From the Tree taproom has an open food policy. (Bring your own food)
URL:https://salemforallages.org/event/bingo-with-great-gaucho-7/
ATTACH;FMTTYPE=image/jpeg:https://salemforallages.org/wp-content/uploads/2025/04/Add-a-subheading-2.jpg
END:VEVENT
BEGIN:VEVENT
DTSTART;TZID=America/New_York:20250422T090000
DTEND;TZID=America/New_York:20250422T153000
DTSTAMP:20260422T185356
CREATED:20250418T090014Z
LAST-MODIFIED:20250418T090014Z
UID:23261-1745312400-1745335800@salemforallages.org
SUMMARY:Eric Pape: The Fair God at Hammond Castle Museum
DESCRIPTION:Self-Guided \nAn extraordinary fine art exhibit featuring over 50 works by renowned artist and former Cape Ann resident\, Eric Pape (1870–1938). Curated predominantly from the private collection of Dr. Gregory Conn\, the world’s leading Pape collector and biographer\, this special exhibition showcases a select group of Pape’s 300 illustrations for The Fair God (1898)—many unseen since his death in 1938.
URL:https://salemforallages.org/event/eric-pape-the-fair-god-at-hammond-castle-museum-5/
ATTACH;FMTTYPE=image/jpeg:https://salemforallages.org/wp-content/uploads/2025/04/CACC_600x900px_20250327-cropped.jpg
END:VEVENT
BEGIN:VEVENT
DTSTART;TZID=America/New_York:20250422T100000
DTEND;TZID=America/New_York:20250422T110000
DTSTAMP:20260422T185356
CREATED:20250416T090023Z
LAST-MODIFIED:20250416T090023Z
UID:23254-1745316000-1745319600@salemforallages.org
SUMMARY:Flower Power Slime Potions
DESCRIPTION:Children will create their own flower power themed slime creation. Students will get to take home their slime. Our magical employees will guide children in creating their own slime creations.
URL:https://salemforallages.org/event/flower-power-slime-potions-3/
ATTACH;FMTTYPE=image/jpeg:https://salemforallages.org/wp-content/uploads/2025/04/Flower-Power-Slime-Potions.jpg
END:VEVENT
BEGIN:VEVENT
DTSTART;TZID=America/New_York:20250422T100000
DTEND;TZID=America/New_York:20250422T160000
DTSTAMP:20260422T185356
CREATED:20250418T090015Z
LAST-MODIFIED:20250418T090015Z
UID:23262-1745316000-1745337600@salemforallages.org
SUMMARY:Essex County Days
DESCRIPTION:The House of the Seven Gables is welcoming our neighbors to visit for free this April school vacation with Essex County Days! \nApril 21-25\, families and individuals living in Essex County can visit The Gables on us! Tickets should be purchased in person with a valid ID or recent utility bill with appropriate address within Essex County. \nPlease note: The House of the Seven Gables is open 10 A.M. – 4 P.M.
URL:https://salemforallages.org/event/essex-county-days-2/
ATTACH;FMTTYPE=image/jpeg:https://salemforallages.org/wp-content/uploads/2025/04/Gables_PhotographyYourWay-scaled-2.jpg
END:VEVENT
BEGIN:VEVENT
DTSTART;TZID=America/New_York:20250422T113000
DTEND;TZID=America/New_York:20250422T140000
DTSTAMP:20260422T185356
CREATED:20250418T090027Z
LAST-MODIFIED:20250418T090027Z
UID:23269-1745321400-1745330400@salemforallages.org
SUMMARY:Spring Broom Decorating
DESCRIPTION:Fly into The Good Witch and Stay for a Spell! Unleash your creativity at the Good Witch of Salem’s Broom Decorating Station\, where you can transform a broom into a magical masterpiece! Use enchanting tape\, colorful ribbons\, sparkling stickers\, and shimmering gems to create a broom that’s uniquely yours. \n  \n 
URL:https://salemforallages.org/event/spring-broom-decorating-3/
ATTACH;FMTTYPE=image/png:https://salemforallages.org/wp-content/uploads/2025/03/Spring-Broom-Decorating.png
END:VEVENT
BEGIN:VEVENT
DTSTART;TZID=America/New_York:20250422T113000
DTEND;TZID=America/New_York:20250422T150000
DTSTAMP:20260422T185356
CREATED:20250418T090019Z
LAST-MODIFIED:20250418T090019Z
UID:23265-1745321400-1745334000@salemforallages.org
SUMMARY:Stop In For a Spell: DIY Potion Bar
DESCRIPTION:Fly in to The Good Witch and Stay for a Spell! Mix up your very own potion at our Potion Bar! \nDrop Ins begin at store opening and end 30 minutes before closing and are offered on a first come\, first serve basis. Purchase online or pay in store. \nDrop Ins may be unavailable during a birthday party or store event. Please call ahead\, or check our posted hours on Google. \nUnder age 4 may participate with the help of a supervising adult.
URL:https://salemforallages.org/event/stop-in-for-a-spell-diy-potion-bar-221/
ATTACH;FMTTYPE=image/jpeg:https://salemforallages.org/wp-content/uploads/2025/04/Stop-In-For-a-Spell-SQUARE-6.jpg
END:VEVENT
BEGIN:VEVENT
DTSTART;TZID=America/New_York:20250422T113000
DTEND;TZID=America/New_York:20250422T150000
DTSTAMP:20260422T185356
CREATED:20250418T090023Z
LAST-MODIFIED:20250418T090023Z
UID:23267-1745321400-1745334000@salemforallages.org
SUMMARY:Potion Brewing Store Experience
DESCRIPTION:Make your visit to The Good Witch of Salem’s shop memorable by booking our in-store Potion Brewing Experience. This activity is led by our Witch Apprentices. \nActivities are recommended for children ages 3 and up. \n*One appointment slot for each child is required.*
URL:https://salemforallages.org/event/potion-brewing-store-experience-301/
ATTACH;FMTTYPE=image/jpeg:https://salemforallages.org/wp-content/uploads/2025/04/Potion-Brewing-Store-Experience-15.jpg
END:VEVENT
BEGIN:VEVENT
DTSTART;TZID=America/New_York:20250422T113000
DTEND;TZID=America/New_York:20250422T153000
DTSTAMP:20260422T185356
CREATED:20250418T090018Z
LAST-MODIFIED:20250418T090018Z
UID:23264-1745321400-1745335800@salemforallages.org
SUMMARY:Magical Transformations
DESCRIPTION:Through our “Magical Transformations” children embrace their charms and express their individuality. Children can choose to transform into a “Witch” or “Wizard”!
URL:https://salemforallages.org/event/magical-transformations-309/
ATTACH;FMTTYPE=image/png:https://salemforallages.org/wp-content/uploads/2024/08/Transformations-1.png
END:VEVENT
BEGIN:VEVENT
DTSTART;TZID=America/New_York:20250422T193000
DTEND;TZID=America/New_York:20250422T210000
DTSTAMP:20260422T185356
CREATED:20250418T090028Z
LAST-MODIFIED:20250418T090028Z
UID:23270-1745350200-1745355600@salemforallages.org
SUMMARY:Trivia Time
DESCRIPTION:General knowledge trivia every Tuesday at 7:30. Free to play. Win a Flying Saucer gift card!
URL:https://salemforallages.org/event/trivia-time-12/
ATTACH;FMTTYPE=image/jpeg:https://salemforallages.org/wp-content/uploads/2025/01/trivia-aframe-Medium.jpeg
END:VEVENT
BEGIN:VEVENT
DTSTART;TZID=America/New_York:20250423T090000
DTEND;TZID=America/New_York:20250423T153000
DTSTAMP:20260422T185356
CREATED:20250418T090029Z
LAST-MODIFIED:20250418T090029Z
UID:23271-1745398800-1745422200@salemforallages.org
SUMMARY:Eric Pape: The Fair God at Hammond Castle Museum
DESCRIPTION:Self-Guided \nAn extraordinary fine art exhibit featuring over 50 works by renowned artist and former Cape Ann resident\, Eric Pape (1870–1938). Curated predominantly from the private collection of Dr. Gregory Conn\, the world’s leading Pape collector and biographer\, this special exhibition showcases a select group of Pape’s 300 illustrations for The Fair God (1898)—many unseen since his death in 1938.
URL:https://salemforallages.org/event/eric-pape-the-fair-god-at-hammond-castle-museum-6/
ATTACH;FMTTYPE=image/jpeg:https://salemforallages.org/wp-content/uploads/2025/04/CACC_600x900px_20250327-cropped.jpg
END:VEVENT
BEGIN:VEVENT
DTSTART;TZID=America/New_York:20250423T100000
DTEND;TZID=America/New_York:20250423T110000
DTSTAMP:20260422T185356
CREATED:20250418T090030Z
LAST-MODIFIED:20250418T090030Z
UID:23273-1745402400-1745406000@salemforallages.org
SUMMARY:Potion Brewing Class With The Good Witch of Salem
DESCRIPTION:Join the Good Witch of Salem for a master class in potion making! Children will mix and mash four mystical potions led by the Good Witch herself!
URL:https://salemforallages.org/event/potion-brewing-class-with-the-good-witch-of-salem-2/
ATTACH;FMTTYPE=image/png:https://salemforallages.org/wp-content/uploads/2025/04/December-Events-2024-SQUARE.png
END:VEVENT
BEGIN:VEVENT
DTSTART;TZID=America/New_York:20250423T100000
DTEND;TZID=America/New_York:20250423T160000
DTSTAMP:20260422T185356
CREATED:20250418T090029Z
LAST-MODIFIED:20250418T090029Z
UID:23272-1745402400-1745424000@salemforallages.org
SUMMARY:Leslie’s Retreat: Salem on the Brink of Revolution Exhibit
DESCRIPTION:This National Park Service exhibit will explore why Crown soldiers under Lt. Col. Alexander Leslie came to Salem on February 26\, 1775\, who were the major players in the event\, and how this event has been remembered and celebrated in Salem in the last 250 years. \nThis free exhibit will be on display from February 15th -April 27th at the Salem Armory Visitor Center\, 2 New Liberty Street\, Salem. \nThe Salem Armory Visitor Center is open Wednesday – Sunday\, 10 am – 4 pm.
URL:https://salemforallages.org/event/leslies-retreat-salem-on-the-brink-of-revolution-exhibit-48/
ATTACH;FMTTYPE=image/jpeg:https://salemforallages.org/wp-content/uploads/2025/02/1775_1782_Salem-Old-North-Bridge-Leslie-Retreat-800x600-1.jpg
END:VEVENT
BEGIN:VEVENT
DTSTART;TZID=America/New_York:20250423T100000
DTEND;TZID=America/New_York:20250423T160000
DTSTAMP:20260422T185356
CREATED:20250418T090034Z
LAST-MODIFIED:20250418T090034Z
UID:23275-1745402400-1745424000@salemforallages.org
SUMMARY:Essex County Days
DESCRIPTION:The House of the Seven Gables is welcoming our neighbors to visit for free this April school vacation with Essex County Days! \nApril 21-25\, families and individuals living in Essex County can visit The Gables on us! Tickets should be purchased in person with a valid ID or recent utility bill with appropriate address within Essex County. \nPlease note: The House of the Seven Gables is open 10 A.M. – 4 P.M.
URL:https://salemforallages.org/event/essex-county-days-3/
ATTACH;FMTTYPE=image/jpeg:https://salemforallages.org/wp-content/uploads/2025/04/Gables_PhotographyYourWay-scaled-3.jpg
END:VEVENT
BEGIN:VEVENT
DTSTART;TZID=America/New_York:20250423T113000
DTEND;TZID=America/New_York:20250423T150000
DTSTAMP:20260422T185356
CREATED:20250420T090007Z
LAST-MODIFIED:20250420T090007Z
UID:23278-1745407800-1745420400@salemforallages.org
SUMMARY:Stop In For a Spell: DIY Potion Bar
DESCRIPTION:Fly in to The Good Witch and Stay for a Spell! Mix up your very own potion at our Potion Bar! \nDrop Ins begin at store opening and end 30 minutes before closing and are offered on a first come\, first serve basis. Purchase online or pay in store. \nDrop Ins may be unavailable during a birthday party or store event. Please call ahead\, or check our posted hours on Google. \nUnder age 4 may participate with the help of a supervising adult.
URL:https://salemforallages.org/event/stop-in-for-a-spell-diy-potion-bar-222/
ATTACH;FMTTYPE=image/jpeg:https://salemforallages.org/wp-content/uploads/2025/04/Stop-In-For-a-Spell-SQUARE-7.jpg
END:VEVENT
BEGIN:VEVENT
DTSTART;TZID=America/New_York:20250423T113000
DTEND;TZID=America/New_York:20250423T150000
DTSTAMP:20260422T185356
CREATED:20250420T090010Z
LAST-MODIFIED:20250420T090010Z
UID:23280-1745407800-1745420400@salemforallages.org
SUMMARY:Potion Brewing Store Experience
DESCRIPTION:Make your visit to The Good Witch of Salem’s shop memorable by booking our in-store Potion Brewing Experience. This activity is led by our Witch Apprentices. \nActivities are recommended for children ages 3 and up. \n*One appointment slot for each child is required.*
URL:https://salemforallages.org/event/potion-brewing-store-experience-302/
ATTACH;FMTTYPE=image/jpeg:https://salemforallages.org/wp-content/uploads/2025/04/Potion-Brewing-Store-Experience-16.jpg
END:VEVENT
BEGIN:VEVENT
DTSTART;TZID=America/New_York:20250423T113000
DTEND;TZID=America/New_York:20250423T153000
DTSTAMP:20260422T185356
CREATED:20250420T090006Z
LAST-MODIFIED:20250420T090006Z
UID:23277-1745407800-1745422200@salemforallages.org
SUMMARY:Magical Transformations
DESCRIPTION:Through our “Magical Transformations” children embrace their charms and express their individuality. Children can choose to transform into a “Witch” or “Wizard”!
URL:https://salemforallages.org/event/magical-transformations-310/
ATTACH;FMTTYPE=image/png:https://salemforallages.org/wp-content/uploads/2024/08/Transformations-1.png
END:VEVENT
BEGIN:VEVENT
DTSTART;TZID=America/New_York:20250423T120000
DTEND;TZID=America/New_York:20250423T133000
DTSTAMP:20260422T185356
CREATED:20250420T090014Z
LAST-MODIFIED:20250420T090014Z
UID:23282-1745409600-1745415000@salemforallages.org
SUMMARY:Craft Witch
DESCRIPTION:Craft Witch is a DIY crafting session with something for everyone! Choose from a wide array of options to create your very own one-of-a-kind craft. Whichever craft you decide to create\, you’ll be provided with all the materials\, tools\, and knowledge needed to let your creativity flourish. Unlike our broom making\, bookbinding\, and spelljar making workshops in which participants are being guided through the crafting process step-by step by an instructor\, the DIY nature of Craft Witch means that you can use the studio time however you wish. Check out the crafting options on our website!
URL:https://salemforallages.org/event/craft-witch-37/
ATTACH;FMTTYPE=image/jpeg:https://salemforallages.org/wp-content/uploads/2025/04/Image-from-iOS-scaled-9.jpg
END:VEVENT
BEGIN:VEVENT
DTSTART;TZID=America/New_York:20250423T130000
DTEND;TZID=America/New_York:20250423T140000
DTSTAMP:20260422T185356
CREATED:20250420T090018Z
LAST-MODIFIED:20250420T090018Z
UID:23284-1745413200-1745416800@salemforallages.org
SUMMARY:Tooth Fairy Magic with the Good Witch of Salem
DESCRIPTION:Let’s celebrate the magic of the Tooth Fairy! Children will create their own tooth fairy treasure box\, mix up a fairy potion\, receive fancy fairy hair accessories\, and a touch of glitter with pink lips and rosy cheeks!
URL:https://salemforallages.org/event/tooth-fairy-magic-with-the-good-witch-of-salem/
ATTACH;FMTTYPE=image/png:https://salemforallages.org/wp-content/uploads/2025/04/FINAL-Tooth-Fairy-Magic-FB.png
END:VEVENT
BEGIN:VEVENT
DTSTART;TZID=America/New_York:20250423T200000
DTEND;TZID=America/New_York:20250423T220000
DTSTAMP:20260422T185356
CREATED:20250420T090022Z
LAST-MODIFIED:20250420T090022Z
UID:23286-1745438400-1745445600@salemforallages.org
SUMMARY:Dweezil Zappa – The Rox(Postroph)y Tour
DESCRIPTION:Dweezil Zappa was born on September 5\, 1969\, in Los Angeles\, the son of the iconic musician Frank Zappa. Over the past three decades\, Dweezil has carved out an eclectic and illustrious career that spans music\, television\, film\, and entrepreneurship. \nA Grammy-winning guitarist\, Dweezil has left an indelible mark on the music industry with over 2000 concerts performed worldwide. Known for his masterful performances and deep connection to his father’s music\, he’s returning to concert stages in 2024 for the first time since the 2020 Hot Ratz Live! Tour.
URL:https://salemforallages.org/event/dweezil-zappa-the-roxpostrophy-tour/
ATTACH;FMTTYPE=image/jpeg:https://salemforallages.org/wp-content/uploads/2025/04/PRESS-PHOTO-1-MAIN-PHOTO.jpeg
END:VEVENT
BEGIN:VEVENT
DTSTART;TZID=America/New_York:20250424T090000
DTEND;TZID=America/New_York:20250424T153000
DTSTAMP:20260422T185356
CREATED:20250420T090026Z
LAST-MODIFIED:20250420T090026Z
UID:23288-1745485200-1745508600@salemforallages.org
SUMMARY:Eric Pape: The Fair God at Hammond Castle Museum
DESCRIPTION:Self-Guided \nAn extraordinary fine art exhibit featuring over 50 works by renowned artist and former Cape Ann resident\, Eric Pape (1870–1938). Curated predominantly from the private collection of Dr. Gregory Conn\, the world’s leading Pape collector and biographer\, this special exhibition showcases a select group of Pape’s 300 illustrations for The Fair God (1898)—many unseen since his death in 1938.
URL:https://salemforallages.org/event/eric-pape-the-fair-god-at-hammond-castle-museum-7/
ATTACH;FMTTYPE=image/jpeg:https://salemforallages.org/wp-content/uploads/2025/04/CACC_600x900px_20250327-cropped.jpg
END:VEVENT
BEGIN:VEVENT
DTSTART;TZID=America/New_York:20250424T100000
DTEND;TZID=America/New_York:20250424T110000
DTSTAMP:20260422T185356
CREATED:20250420T090027Z
LAST-MODIFIED:20250420T090027Z
UID:23290-1745488800-1745492400@salemforallages.org
SUMMARY:Fairy Slime Potions
DESCRIPTION:Children will create their own fairy themed slime creation. Students will get to take home their slime. Our magical employees will guide children in creating their own slime creations.
URL:https://salemforallages.org/event/fairy-slime-potions/
ATTACH;FMTTYPE=image/jpeg:https://salemforallages.org/wp-content/uploads/2025/04/Fairy-Slime-Potions.jpg
END:VEVENT
BEGIN:VEVENT
DTSTART;TZID=America/New_York:20250424T100000
DTEND;TZID=America/New_York:20250424T160000
DTSTAMP:20260422T185356
CREATED:20250420T090026Z
LAST-MODIFIED:20250420T090026Z
UID:23289-1745488800-1745510400@salemforallages.org
SUMMARY:Leslie’s Retreat: Salem on the Brink of Revolution Exhibit
DESCRIPTION:This National Park Service exhibit will explore why Crown soldiers under Lt. Col. Alexander Leslie came to Salem on February 26\, 1775\, who were the major players in the event\, and how this event has been remembered and celebrated in Salem in the last 250 years. \nThis free exhibit will be on display from February 15th -April 27th at the Salem Armory Visitor Center\, 2 New Liberty Street\, Salem. \nThe Salem Armory Visitor Center is open Wednesday – Sunday\, 10 am – 4 pm.
URL:https://salemforallages.org/event/leslies-retreat-salem-on-the-brink-of-revolution-exhibit-49/
ATTACH;FMTTYPE=image/jpeg:https://salemforallages.org/wp-content/uploads/2025/02/1775_1782_Salem-Old-North-Bridge-Leslie-Retreat-800x600-1.jpg
END:VEVENT
END:VCALENDAR