BEGIN:VCALENDAR
VERSION:2.0
PRODID:-//Salem for All Ages - ECPv6.15.18//NONSGML v1.0//EN
CALSCALE:GREGORIAN
METHOD:PUBLISH
X-ORIGINAL-URL:https://salemforallages.org
X-WR-CALDESC:Events for Salem for All Ages
REFRESH-INTERVAL;VALUE=DURATION:PT1H
X-Robots-Tag:noindex
X-PUBLISHED-TTL:PT1H
BEGIN:VTIMEZONE
TZID:America/New_York
BEGIN:DAYLIGHT
TZOFFSETFROM:-0500
TZOFFSETTO:-0400
TZNAME:EDT
DTSTART:20230312T070000
END:DAYLIGHT
BEGIN:STANDARD
TZOFFSETFROM:-0400
TZOFFSETTO:-0500
TZNAME:EST
DTSTART:20231105T060000
END:STANDARD
BEGIN:DAYLIGHT
TZOFFSETFROM:-0500
TZOFFSETTO:-0400
TZNAME:EDT
DTSTART:20240310T070000
END:DAYLIGHT
BEGIN:STANDARD
TZOFFSETFROM:-0400
TZOFFSETTO:-0500
TZNAME:EST
DTSTART:20241103T060000
END:STANDARD
BEGIN:DAYLIGHT
TZOFFSETFROM:-0500
TZOFFSETTO:-0400
TZNAME:EDT
DTSTART:20250309T070000
END:DAYLIGHT
BEGIN:STANDARD
TZOFFSETFROM:-0400
TZOFFSETTO:-0500
TZNAME:EST
DTSTART:20251102T060000
END:STANDARD
BEGIN:DAYLIGHT
TZOFFSETFROM:-0500
TZOFFSETTO:-0400
TZNAME:EDT
DTSTART:20260308T070000
END:DAYLIGHT
BEGIN:STANDARD
TZOFFSETFROM:-0400
TZOFFSETTO:-0500
TZNAME:EST
DTSTART:20261101T060000
END:STANDARD
END:VTIMEZONE
BEGIN:VEVENT
DTSTART;TZID=America/New_York:20240928T100000
DTEND;TZID=America/New_York:20250615T170000
DTSTAMP:20260422T173020
CREATED:20240920T090023Z
LAST-MODIFIED:20240920T090023Z
UID:20529-1727517600-1750006800@salemforallages.org
SUMMARY:Narwhal: Revealing an Arctic Legend at The PEM
DESCRIPTION:SALEM\, MA –  This fall\, the Peabody Essex Museum (PEM) invites visitors to dive deep into the world of narwhals. These unique ocean dwellers\, sometimes called the “unicorns of the sea\,” spend their lives in the Arctic waters of Canada\, Greenland\, Norway and Russia. Learn about their changing Arctic ecosystem through firsthand accounts of scientists and Inuit community members. Hear soundscapes of the Arctic\, including the evocative vocalizations of the narwhal\, and touch an 8-foot-long cast of a real narwhal tusk. \nOn view in The Dotty Brown Art & Nature Center\, this family-friendly\, interactive exhibition is part of PEM’s interdisciplinary Climate + Environment Initiative. Narwhal: Revealing an Arctic Legend includes contemporary Inuit sculptures and prints and a historic book from PEM’s Phillips Library collection. The exhibition is organized by the Smithsonian Institution Traveling Exhibition Service in collaboration with the Smithsonian’s National Museum of Natural History and is on view at PEM September 28\, 2024 through June 15\, 2025. \nExhibition Opening Celebration: A Narwhal Carnival\nSaturday\, September 28 | 10 am–3 pm | Included with admission\nMeet fantastical marionette puppets walking through the galleries and create your own whimsical sea creature using recycled materials with a local artist. Plus\, enjoy an ocean-themed PEM Pals with us! Designed for children (5 and under) and their caregivers\, PEM Pals aims to engage and excite all of the senses through books\, movement\, music\, art and hands-on activities. Find out more at pem.org. \nWalkabout Puppets with Purple Rock Productions\n10 am–3 pm\nMeet very special marionette characters ready to share their joy and invite playfulness into your museum visit. \nPEM Pals with Teresa Coelho\n10:30–11:30 am | Main Atrium\nMove\, groove\, sing and listen with Teresa Coelho\, director of Music Together® of Salem. Explore ocean animals and stories through music and enjoy a reading of Little Narwhal\, Not Alone by Tiffany Stone. \nDrop-In Art: Recycled Fantastic Creatures\n11 am–3 pm | Create Space Studios\nMeet local artist and art therapist Bruce Orr and explore sea creatures with features and superpowers stranger than fiction! Tinker with a wide variety of recycled materials\, and learn how you can give life to used household items to create new artworks. \nGallery Activation: Get to Know Narwhals\n11 am–3 pm | Exhibition Gallery\nCome curious for a hands-on exploration of what makes narwhals unique at our in-gallery discovery cart.
URL:https://salemforallages.org/event/narwhal-revealing-an-arctic-legend-at-the-pem/
ATTACH;FMTTYPE=image/png:https://salemforallages.org/wp-content/uploads/2024/09/Screen-Shot-2024-08-29-at-11.30.40-AM.png
END:VEVENT
BEGIN:VEVENT
DTSTART;TZID=America/New_York:20250408T080000
DTEND;TZID=America/New_York:20250408T170000
DTSTAMP:20260422T173020
CREATED:20250402T090008Z
LAST-MODIFIED:20250402T090008Z
UID:23041-1744099200-1744131600@salemforallages.org
SUMMARY:Ginger Cajun Seafood Pride Nights
DESCRIPTION:Ginger has a Pride Night every second and fourth Wednesdays of the month from 7 to 10. It’s a safe place for LGBT+ people and allies to come\, hang out and have fun. They also have a special drink list for it.
URL:https://salemforallages.org/event/ginger-cajun-seafood-pride-nights-23/
ATTACH;FMTTYPE=image/jpeg:https://salemforallages.org/wp-content/uploads/2023/05/Pride-Flag.jpg
END:VEVENT
BEGIN:VEVENT
DTSTART;TZID=America/New_York:20250408T113000
DTEND;TZID=America/New_York:20250408T150000
DTSTAMP:20260422T173020
CREATED:20250402T090010Z
LAST-MODIFIED:20250402T090010Z
UID:23043-1744111800-1744124400@salemforallages.org
SUMMARY:Stop In For a Spell: DIY Potion Bar
DESCRIPTION:Fly in to The Good Witch and Stay for a Spell! Mix up your very own potion at our Potion Bar! \nDrop Ins begin at store opening and end 30 minutes before closing and are offered on a first come\, first serve basis. Purchase online or pay in store. \nDrop Ins may be unavailable during a birthday party or store event. Please call ahead\, or check our posted hours on Google. \nUnder age 4 may participate with the help of a supervising adult.
URL:https://salemforallages.org/event/stop-in-for-a-spell-diy-potion-bar-215/
ATTACH;FMTTYPE=image/jpeg:https://salemforallages.org/wp-content/uploads/2025/04/Stop-In-For-a-Spell-SQUARE.jpg
END:VEVENT
BEGIN:VEVENT
DTSTART;TZID=America/New_York:20250408T113000
DTEND;TZID=America/New_York:20250408T150000
DTSTAMP:20260422T173020
CREATED:20250402T090016Z
LAST-MODIFIED:20250402T090016Z
UID:23045-1744111800-1744124400@salemforallages.org
SUMMARY:Potion Brewing Store Experience
DESCRIPTION:Make your visit to The Good Witch of Salem’s shop memorable by booking our in-store Potion Brewing Experience. This activity is led by our Witch Apprentices. \nActivities are recommended for children ages 3 and up. \n*One appointment slot for each child is required.*
URL:https://salemforallages.org/event/potion-brewing-store-experience-287/
ATTACH;FMTTYPE=image/jpeg:https://salemforallages.org/wp-content/uploads/2025/04/Potion-Brewing-Store-Experience-1.jpg
END:VEVENT
BEGIN:VEVENT
DTSTART;TZID=America/New_York:20250408T113000
DTEND;TZID=America/New_York:20250408T153000
DTSTAMP:20260422T173020
CREATED:20250402T090009Z
LAST-MODIFIED:20250402T090009Z
UID:23042-1744111800-1744126200@salemforallages.org
SUMMARY:Magical Transformations
DESCRIPTION:Through our “Magical Transformations” children embrace their charms and express their individuality. Children can choose to transform into a “Witch” or “Wizard”!
URL:https://salemforallages.org/event/magical-transformations-295/
ATTACH;FMTTYPE=image/png:https://salemforallages.org/wp-content/uploads/2024/08/Transformations-1.png
END:VEVENT
BEGIN:VEVENT
DTSTART;TZID=America/New_York:20250408T120000
DTEND;TZID=America/New_York:20250408T150000
DTSTAMP:20260422T173020
CREATED:20250402T090022Z
LAST-MODIFIED:20250402T090022Z
UID:23047-1744113600-1744124400@salemforallages.org
SUMMARY:Trash Transformed: Art and Sustainability
DESCRIPTION:The “Trash to Art” initiative\, a Collaborative Online International Learning (COIL) project between Salem State University in the United States and Tecnológico de Monterrey in Mexico\, exemplifies the transformative power of global shared learning. Guided by Professors Tereza Swanda and Francisco González Romo de Vivar\, this project engages students from diverse cultural backgrounds in repurposing discarded materials into meaningful artworks\, promoting a profound understanding of environmental sustainability and cross-cultural collaboration.
URL:https://salemforallages.org/event/trash-transformed-art-and-sustainability-7/
ATTACH;FMTTYPE=image/jpeg:https://salemforallages.org/wp-content/uploads/2025/04/TRASH-to-ART-Jacob-and-Gala-poster-postcard-scaled-2.jpeg
END:VEVENT
BEGIN:VEVENT
DTSTART;TZID=America/New_York:20250408T193000
DTEND;TZID=America/New_York:20250408T210000
DTSTAMP:20260422T173020
CREATED:20250402T090026Z
LAST-MODIFIED:20250402T090026Z
UID:23049-1744140600-1744146000@salemforallages.org
SUMMARY:Trivia Time
DESCRIPTION:General knowledge trivia every Tuesday at 7:30. Free to play. Win a Flying Saucer gift card!
URL:https://salemforallages.org/event/trivia-time-10/
ATTACH;FMTTYPE=image/jpeg:https://salemforallages.org/wp-content/uploads/2025/01/trivia-aframe-Medium.jpeg
END:VEVENT
END:VCALENDAR