BEGIN:VCALENDAR
VERSION:2.0
PRODID:-//Salem for All Ages - ECPv6.15.18//NONSGML v1.0//EN
CALSCALE:GREGORIAN
METHOD:PUBLISH
X-WR-CALNAME:Salem for All Ages
X-ORIGINAL-URL:https://salemforallages.org
X-WR-CALDESC:Events for Salem for All Ages
REFRESH-INTERVAL;VALUE=DURATION:PT1H
X-Robots-Tag:noindex
X-PUBLISHED-TTL:PT1H
BEGIN:VTIMEZONE
TZID:America/New_York
BEGIN:DAYLIGHT
TZOFFSETFROM:-0500
TZOFFSETTO:-0400
TZNAME:EDT
DTSTART:20230312T070000
END:DAYLIGHT
BEGIN:STANDARD
TZOFFSETFROM:-0400
TZOFFSETTO:-0500
TZNAME:EST
DTSTART:20231105T060000
END:STANDARD
BEGIN:DAYLIGHT
TZOFFSETFROM:-0500
TZOFFSETTO:-0400
TZNAME:EDT
DTSTART:20240310T070000
END:DAYLIGHT
BEGIN:STANDARD
TZOFFSETFROM:-0400
TZOFFSETTO:-0500
TZNAME:EST
DTSTART:20241103T060000
END:STANDARD
BEGIN:DAYLIGHT
TZOFFSETFROM:-0500
TZOFFSETTO:-0400
TZNAME:EDT
DTSTART:20250309T070000
END:DAYLIGHT
BEGIN:STANDARD
TZOFFSETFROM:-0400
TZOFFSETTO:-0500
TZNAME:EST
DTSTART:20251102T060000
END:STANDARD
BEGIN:DAYLIGHT
TZOFFSETFROM:-0500
TZOFFSETTO:-0400
TZNAME:EDT
DTSTART:20260308T070000
END:DAYLIGHT
BEGIN:STANDARD
TZOFFSETFROM:-0400
TZOFFSETTO:-0500
TZNAME:EST
DTSTART:20261101T060000
END:STANDARD
END:VTIMEZONE
BEGIN:VEVENT
DTSTART;TZID=America/New_York:20240928T100000
DTEND;TZID=America/New_York:20250615T170000
DTSTAMP:20260422T172641
CREATED:20240920T090023Z
LAST-MODIFIED:20240920T090023Z
UID:20529-1727517600-1750006800@salemforallages.org
SUMMARY:Narwhal: Revealing an Arctic Legend at The PEM
DESCRIPTION:SALEM\, MA –  This fall\, the Peabody Essex Museum (PEM) invites visitors to dive deep into the world of narwhals. These unique ocean dwellers\, sometimes called the “unicorns of the sea\,” spend their lives in the Arctic waters of Canada\, Greenland\, Norway and Russia. Learn about their changing Arctic ecosystem through firsthand accounts of scientists and Inuit community members. Hear soundscapes of the Arctic\, including the evocative vocalizations of the narwhal\, and touch an 8-foot-long cast of a real narwhal tusk. \nOn view in The Dotty Brown Art & Nature Center\, this family-friendly\, interactive exhibition is part of PEM’s interdisciplinary Climate + Environment Initiative. Narwhal: Revealing an Arctic Legend includes contemporary Inuit sculptures and prints and a historic book from PEM’s Phillips Library collection. The exhibition is organized by the Smithsonian Institution Traveling Exhibition Service in collaboration with the Smithsonian’s National Museum of Natural History and is on view at PEM September 28\, 2024 through June 15\, 2025. \nExhibition Opening Celebration: A Narwhal Carnival\nSaturday\, September 28 | 10 am–3 pm | Included with admission\nMeet fantastical marionette puppets walking through the galleries and create your own whimsical sea creature using recycled materials with a local artist. Plus\, enjoy an ocean-themed PEM Pals with us! Designed for children (5 and under) and their caregivers\, PEM Pals aims to engage and excite all of the senses through books\, movement\, music\, art and hands-on activities. Find out more at pem.org. \nWalkabout Puppets with Purple Rock Productions\n10 am–3 pm\nMeet very special marionette characters ready to share their joy and invite playfulness into your museum visit. \nPEM Pals with Teresa Coelho\n10:30–11:30 am | Main Atrium\nMove\, groove\, sing and listen with Teresa Coelho\, director of Music Together® of Salem. Explore ocean animals and stories through music and enjoy a reading of Little Narwhal\, Not Alone by Tiffany Stone. \nDrop-In Art: Recycled Fantastic Creatures\n11 am–3 pm | Create Space Studios\nMeet local artist and art therapist Bruce Orr and explore sea creatures with features and superpowers stranger than fiction! Tinker with a wide variety of recycled materials\, and learn how you can give life to used household items to create new artworks. \nGallery Activation: Get to Know Narwhals\n11 am–3 pm | Exhibition Gallery\nCome curious for a hands-on exploration of what makes narwhals unique at our in-gallery discovery cart.
URL:https://salemforallages.org/event/narwhal-revealing-an-arctic-legend-at-the-pem/
ATTACH;FMTTYPE=image/png:https://salemforallages.org/wp-content/uploads/2024/09/Screen-Shot-2024-08-29-at-11.30.40-AM.png
END:VEVENT
BEGIN:VEVENT
DTSTART;TZID=America/New_York:20250405T100000
DTEND;TZID=America/New_York:20250405T110000
DTSTAMP:20260422T172641
CREATED:20250330T090022Z
LAST-MODIFIED:20250330T090022Z
UID:23004-1743847200-1743850800@salemforallages.org
SUMMARY:Fairy Spa Day
DESCRIPTION:Let’s have a Fairy Spa Day! Join us for a little pampering and relaxation with our Witch Apprentices. Children will create their own fairy potion and receive sparkly nails\, fancy fairy hair accessories\, and a touch of glitter with pink lips and rosy cheeks.
URL:https://salemforallages.org/event/fairy-spa-day-8/
ATTACH;FMTTYPE=image/jpeg:https://salemforallages.org/wp-content/uploads/2025/03/Fairy-Spa-Day.jpg
END:VEVENT
BEGIN:VEVENT
DTSTART;TZID=America/New_York:20250405T100000
DTEND;TZID=America/New_York:20250405T160000
DTSTAMP:20260422T172641
CREATED:20250330T090022Z
LAST-MODIFIED:20250330T090022Z
UID:23003-1743847200-1743868800@salemforallages.org
SUMMARY:Leslie’s Retreat: Salem on the Brink of Revolution Exhibit
DESCRIPTION:This National Park Service exhibit will explore why Crown soldiers under Lt. Col. Alexander Leslie came to Salem on February 26\, 1775\, who were the major players in the event\, and how this event has been remembered and celebrated in Salem in the last 250 years. \nThis free exhibit will be on display from February 15th -April 27th at the Salem Armory Visitor Center\, 2 New Liberty Street\, Salem. \nThe Salem Armory Visitor Center is open Wednesday – Sunday\, 10 am – 4 pm.
URL:https://salemforallages.org/event/leslies-retreat-salem-on-the-brink-of-revolution-exhibit-36/
ATTACH;FMTTYPE=image/jpeg:https://salemforallages.org/wp-content/uploads/2025/02/1775_1782_Salem-Old-North-Bridge-Leslie-Retreat-800x600-1.jpg
END:VEVENT
BEGIN:VEVENT
DTSTART;TZID=America/New_York:20250405T113000
DTEND;TZID=America/New_York:20250405T140000
DTSTAMP:20260422T172641
CREATED:20250330T090033Z
LAST-MODIFIED:20250330T090033Z
UID:23009-1743852600-1743861600@salemforallages.org
SUMMARY:The Good Witch of Salem’s Fairy Dreams Potion
DESCRIPTION:Fly into The Good Witch and Stay for a Spell! Step into the DIY Good Witch of Salem’s Potion Bar\, where you can mix your very own magical potion creations! Choose your ingredients\, sprinkle in magical moondust\, add in your golden heart intentions\, and seal with a special charm to take home the enchantment!
URL:https://salemforallages.org/event/the-good-witch-of-salems-fairy-dreams-potion/
ATTACH;FMTTYPE=image/jpeg:https://salemforallages.org/wp-content/uploads/2025/03/Fairy-Dreams-scaled-1.jpg
END:VEVENT
BEGIN:VEVENT
DTSTART;TZID=America/New_York:20250405T113000
DTEND;TZID=America/New_York:20250405T140000
DTSTAMP:20260422T172641
CREATED:20250330T090036Z
LAST-MODIFIED:20250330T090036Z
UID:23011-1743852600-1743861600@salemforallages.org
SUMMARY:The Good Witch of Salem’s Growth Potion
DESCRIPTION:Fly into The Good Witch and Stay for a Spell! Step into the DIY Good Witch of Salem’s Potion Bar\, where you can mix your very own magical potion creations! Choose your ingredients\, sprinkle in magical moondust\, add in your golden heart intentions\, and seal with a special charm to take home the enchantment!
URL:https://salemforallages.org/event/the-good-witch-of-salems-growth-potion/
ATTACH;FMTTYPE=image/jpeg:https://salemforallages.org/wp-content/uploads/2025/03/Growth-Potion-scaled-1.jpg
END:VEVENT
BEGIN:VEVENT
DTSTART;TZID=America/New_York:20250405T113000
DTEND;TZID=America/New_York:20250405T140000
DTSTAMP:20260422T172641
CREATED:20250330T090041Z
LAST-MODIFIED:20250330T090041Z
UID:23013-1743852600-1743861600@salemforallages.org
SUMMARY:Spring Broom Decorating
DESCRIPTION:Fly into The Good Witch and Stay for a Spell! Unleash your creativity at the Good Witch of Salem’s Broom Decorating Station\, where you can transform a broom into a magical masterpiece! Use enchanting tape\, colorful ribbons\, sparkling stickers\, and shimmering gems to create a broom that’s uniquely yours. \n  \n 
URL:https://salemforallages.org/event/spring-broom-decorating/
ATTACH;FMTTYPE=image/png:https://salemforallages.org/wp-content/uploads/2025/03/Spring-Broom-Decorating.png
END:VEVENT
BEGIN:VEVENT
DTSTART;TZID=America/New_York:20250405T113000
DTEND;TZID=America/New_York:20250405T160000
DTSTAMP:20260422T172641
CREATED:20250330T090027Z
LAST-MODIFIED:20250330T090027Z
UID:23006-1743852600-1743868800@salemforallages.org
SUMMARY:Magical Transformations
DESCRIPTION:Through our “Magical Transformations” children embrace their charms and express their individuality. Children can choose to transform into a “Witch” or “Wizard”!
URL:https://salemforallages.org/event/magical-transformations-292/
ATTACH;FMTTYPE=image/png:https://salemforallages.org/wp-content/uploads/2024/08/Transformations.png
END:VEVENT
BEGIN:VEVENT
DTSTART;TZID=America/New_York:20250405T113000
DTEND;TZID=America/New_York:20250405T160000
DTSTAMP:20260422T172641
CREATED:20250330T090028Z
LAST-MODIFIED:20250330T090028Z
UID:23007-1743852600-1743868800@salemforallages.org
SUMMARY:Potion Brewing Store Experience
DESCRIPTION:Make your visit to The Good Witch of Salem’s shop memorable by booking our in-store Potion Brewing Experience. This activity is led by our Witch Apprentices. \nActivities are recommended for children ages 3 and up. \n*One appointment slot for each child is required.*
URL:https://salemforallages.org/event/potion-brewing-store-experience-284/
ATTACH;FMTTYPE=image/jpeg:https://salemforallages.org/wp-content/uploads/2025/03/Potion-Brewing-Store-Experience-30.jpg
END:VEVENT
BEGIN:VEVENT
DTSTART;TZID=America/New_York:20250405T120000
DTEND;TZID=America/New_York:20250405T133000
DTSTAMP:20260422T172641
CREATED:20250330T090045Z
LAST-MODIFIED:20250330T090045Z
UID:23015-1743854400-1743859800@salemforallages.org
SUMMARY:Craft Witch
DESCRIPTION:Craft Witch is a DIY crafting session with something for everyone! Choose from a wide array of options to create your very own one-of-a-kind craft. Whichever craft you decide to create\, you’ll be provided with all the materials\, tools\, and knowledge needed to let your creativity flourish. Unlike our broom making\, bookbinding\, and spelljar making workshops in which participants are being guided through the crafting process step-by step by an instructor\, the DIY nature of Craft Witch means that you can use the studio time however you wish. Check out the crafting options on our website!
URL:https://salemforallages.org/event/craft-witch-28/
ATTACH;FMTTYPE=image/jpeg:https://salemforallages.org/wp-content/uploads/2025/03/Image-from-iOS-scaled-20.jpg
END:VEVENT
BEGIN:VEVENT
DTSTART;TZID=America/New_York:20250405T200000
DTEND;TZID=America/New_York:20250405T220000
DTSTAMP:20260422T172641
CREATED:20250331T090009Z
LAST-MODIFIED:20250331T090009Z
UID:23017-1743883200-1743890400@salemforallages.org
SUMMARY:Off Cabot Showcase
DESCRIPTION:Join us for another hilarious Off Cabot Showcase featuring some of the funniest comedians in New England! This show will feature some of our favorite comics including Ellen Sugarman\, Danny Killea\, Chris Post\, Kristy K\, and Andrew Della Volpe! All these comedians have different styles and tastes\, so there’s something for everyone to enjoy!
URL:https://salemforallages.org/event/off-cabot-showcase/
ATTACH;FMTTYPE=image/png:https://salemforallages.org/wp-content/uploads/2025/03/OC-Showcase.png
END:VEVENT
END:VCALENDAR