BEGIN:VCALENDAR
VERSION:2.0
PRODID:-//Salem for All Ages - ECPv6.15.18//NONSGML v1.0//EN
CALSCALE:GREGORIAN
METHOD:PUBLISH
X-WR-CALNAME:Salem for All Ages
X-ORIGINAL-URL:https://salemforallages.org
X-WR-CALDESC:Events for Salem for All Ages
REFRESH-INTERVAL;VALUE=DURATION:PT1H
X-Robots-Tag:noindex
X-PUBLISHED-TTL:PT1H
BEGIN:VTIMEZONE
TZID:America/New_York
BEGIN:DAYLIGHT
TZOFFSETFROM:-0500
TZOFFSETTO:-0400
TZNAME:EDT
DTSTART:20230312T070000
END:DAYLIGHT
BEGIN:STANDARD
TZOFFSETFROM:-0400
TZOFFSETTO:-0500
TZNAME:EST
DTSTART:20231105T060000
END:STANDARD
BEGIN:DAYLIGHT
TZOFFSETFROM:-0500
TZOFFSETTO:-0400
TZNAME:EDT
DTSTART:20240310T070000
END:DAYLIGHT
BEGIN:STANDARD
TZOFFSETFROM:-0400
TZOFFSETTO:-0500
TZNAME:EST
DTSTART:20241103T060000
END:STANDARD
BEGIN:DAYLIGHT
TZOFFSETFROM:-0500
TZOFFSETTO:-0400
TZNAME:EDT
DTSTART:20250309T070000
END:DAYLIGHT
BEGIN:STANDARD
TZOFFSETFROM:-0400
TZOFFSETTO:-0500
TZNAME:EST
DTSTART:20251102T060000
END:STANDARD
BEGIN:DAYLIGHT
TZOFFSETFROM:-0500
TZOFFSETTO:-0400
TZNAME:EDT
DTSTART:20260308T070000
END:DAYLIGHT
BEGIN:STANDARD
TZOFFSETFROM:-0400
TZOFFSETTO:-0500
TZNAME:EST
DTSTART:20261101T060000
END:STANDARD
END:VTIMEZONE
BEGIN:VEVENT
DTSTART;TZID=America/New_York:20240928T100000
DTEND;TZID=America/New_York:20250615T170000
DTSTAMP:20260422T172620
CREATED:20240920T090023Z
LAST-MODIFIED:20240920T090023Z
UID:20529-1727517600-1750006800@salemforallages.org
SUMMARY:Narwhal: Revealing an Arctic Legend at The PEM
DESCRIPTION:SALEM\, MA –  This fall\, the Peabody Essex Museum (PEM) invites visitors to dive deep into the world of narwhals. These unique ocean dwellers\, sometimes called the “unicorns of the sea\,” spend their lives in the Arctic waters of Canada\, Greenland\, Norway and Russia. Learn about their changing Arctic ecosystem through firsthand accounts of scientists and Inuit community members. Hear soundscapes of the Arctic\, including the evocative vocalizations of the narwhal\, and touch an 8-foot-long cast of a real narwhal tusk. \nOn view in The Dotty Brown Art & Nature Center\, this family-friendly\, interactive exhibition is part of PEM’s interdisciplinary Climate + Environment Initiative. Narwhal: Revealing an Arctic Legend includes contemporary Inuit sculptures and prints and a historic book from PEM’s Phillips Library collection. The exhibition is organized by the Smithsonian Institution Traveling Exhibition Service in collaboration with the Smithsonian’s National Museum of Natural History and is on view at PEM September 28\, 2024 through June 15\, 2025. \nExhibition Opening Celebration: A Narwhal Carnival\nSaturday\, September 28 | 10 am–3 pm | Included with admission\nMeet fantastical marionette puppets walking through the galleries and create your own whimsical sea creature using recycled materials with a local artist. Plus\, enjoy an ocean-themed PEM Pals with us! Designed for children (5 and under) and their caregivers\, PEM Pals aims to engage and excite all of the senses through books\, movement\, music\, art and hands-on activities. Find out more at pem.org. \nWalkabout Puppets with Purple Rock Productions\n10 am–3 pm\nMeet very special marionette characters ready to share their joy and invite playfulness into your museum visit. \nPEM Pals with Teresa Coelho\n10:30–11:30 am | Main Atrium\nMove\, groove\, sing and listen with Teresa Coelho\, director of Music Together® of Salem. Explore ocean animals and stories through music and enjoy a reading of Little Narwhal\, Not Alone by Tiffany Stone. \nDrop-In Art: Recycled Fantastic Creatures\n11 am–3 pm | Create Space Studios\nMeet local artist and art therapist Bruce Orr and explore sea creatures with features and superpowers stranger than fiction! Tinker with a wide variety of recycled materials\, and learn how you can give life to used household items to create new artworks. \nGallery Activation: Get to Know Narwhals\n11 am–3 pm | Exhibition Gallery\nCome curious for a hands-on exploration of what makes narwhals unique at our in-gallery discovery cart.
URL:https://salemforallages.org/event/narwhal-revealing-an-arctic-legend-at-the-pem/
ATTACH;FMTTYPE=image/png:https://salemforallages.org/wp-content/uploads/2024/09/Screen-Shot-2024-08-29-at-11.30.40-AM.png
END:VEVENT
BEGIN:VEVENT
DTSTART;TZID=America/New_York:20250404T100000
DTEND;TZID=America/New_York:20250404T160000
DTSTAMP:20260422T172620
CREATED:20250329T090034Z
LAST-MODIFIED:20250329T090034Z
UID:22991-1743760800-1743782400@salemforallages.org
SUMMARY:Leslie’s Retreat: Salem on the Brink of Revolution Exhibit
DESCRIPTION:This National Park Service exhibit will explore why Crown soldiers under Lt. Col. Alexander Leslie came to Salem on February 26\, 1775\, who were the major players in the event\, and how this event has been remembered and celebrated in Salem in the last 250 years. \nThis free exhibit will be on display from February 15th -April 27th at the Salem Armory Visitor Center\, 2 New Liberty Street\, Salem. \nThe Salem Armory Visitor Center is open Wednesday – Sunday\, 10 am – 4 pm.
URL:https://salemforallages.org/event/leslies-retreat-salem-on-the-brink-of-revolution-exhibit-35/
ATTACH;FMTTYPE=image/jpeg:https://salemforallages.org/wp-content/uploads/2025/02/1775_1782_Salem-Old-North-Bridge-Leslie-Retreat-800x600-1.jpg
END:VEVENT
BEGIN:VEVENT
DTSTART;TZID=America/New_York:20250404T113000
DTEND;TZID=America/New_York:20250404T160000
DTSTAMP:20260422T172620
CREATED:20250329T090035Z
LAST-MODIFIED:20250329T090035Z
UID:22992-1743766200-1743782400@salemforallages.org
SUMMARY:Magical Transformations
DESCRIPTION:Through our “Magical Transformations” children embrace their charms and express their individuality. Children can choose to transform into a “Witch” or “Wizard”!
URL:https://salemforallages.org/event/magical-transformations-291/
ATTACH;FMTTYPE=image/png:https://salemforallages.org/wp-content/uploads/2024/08/Transformations.png
END:VEVENT
BEGIN:VEVENT
DTSTART;TZID=America/New_York:20250404T113000
DTEND;TZID=America/New_York:20250404T160000
DTSTAMP:20260422T172620
CREATED:20250329T090035Z
LAST-MODIFIED:20250329T090035Z
UID:22993-1743766200-1743782400@salemforallages.org
SUMMARY:Potion Brewing Store Experience
DESCRIPTION:Make your visit to The Good Witch of Salem’s shop memorable by booking our in-store Potion Brewing Experience. This activity is led by our Witch Apprentices. \nActivities are recommended for children ages 3 and up. \n*One appointment slot for each child is required.*
URL:https://salemforallages.org/event/potion-brewing-store-experience-283/
ATTACH;FMTTYPE=image/jpeg:https://salemforallages.org/wp-content/uploads/2025/03/Potion-Brewing-Store-Experience-29.jpg
END:VEVENT
BEGIN:VEVENT
DTSTART;TZID=America/New_York:20250404T120000
DTEND;TZID=America/New_York:20250404T133000
DTSTAMP:20260422T172620
CREATED:20250330T090007Z
LAST-MODIFIED:20250330T090007Z
UID:22995-1743768000-1743773400@salemforallages.org
SUMMARY:Craft Witch
DESCRIPTION:Craft Witch is a DIY crafting session with something for everyone! Choose from a wide array of options to create your very own one-of-a-kind craft. Whichever craft you decide to create\, you’ll be provided with all the materials\, tools\, and knowledge needed to let your creativity flourish. Unlike our broom making\, bookbinding\, and spelljar making workshops in which participants are being guided through the crafting process step-by step by an instructor\, the DIY nature of Craft Witch means that you can use the studio time however you wish. Check out the crafting options on our website!
URL:https://salemforallages.org/event/craft-witch-27/
ATTACH;FMTTYPE=image/jpeg:https://salemforallages.org/wp-content/uploads/2025/03/Image-from-iOS-scaled-19.jpg
END:VEVENT
BEGIN:VEVENT
DTSTART;TZID=America/New_York:20250404T120000
DTEND;TZID=America/New_York:20250404T150000
DTSTAMP:20260422T172620
CREATED:20250330T090011Z
LAST-MODIFIED:20250330T090011Z
UID:22997-1743768000-1743778800@salemforallages.org
SUMMARY:Trash Transformed: Art and Sustainability
DESCRIPTION:The “Trash to Art” initiative\, a Collaborative Online International Learning (COIL) project between Salem State University in the United States and Tecnológico de Monterrey in Mexico\, exemplifies the transformative power of global shared learning. Guided by Professors Tereza Swanda and Francisco González Romo de Vivar\, this project engages students from diverse cultural backgrounds in repurposing discarded materials into meaningful artworks\, promoting a profound understanding of environmental sustainability and cross-cultural collaboration.
URL:https://salemforallages.org/event/trash-transformed-art-and-sustainability-5/
ATTACH;FMTTYPE=image/jpeg:https://salemforallages.org/wp-content/uploads/2025/03/TRASH-to-ART-Jacob-and-Gala-poster-postcard-scaled-5.jpeg
END:VEVENT
BEGIN:VEVENT
DTSTART;TZID=America/New_York:20250404T193000
DTEND;TZID=America/New_York:20250404T213000
DTSTAMP:20260422T172620
CREATED:20250330T090015Z
LAST-MODIFIED:20250330T090015Z
UID:22999-1743795000-1743802200@salemforallages.org
SUMMARY:Swing Dance Night with the Acoustiphonics
DESCRIPTION:Boogie on down to Beverly for the infectious sounds of Acoustiphonics at our Swing Dance Night! Whether you’re a seasoned dancer or a complete beginner\, our night promises to be a thrilling escape into the vibrant world of swing music\, dance and prohibition style cocktails. Doors open at 6:30\, get there early to kick off the night with a lively free swing dance lesson led by the talented Dale Grasso at 7:30. She will teach you the basics of swing\, ensuring you feel confident and ready to hit the floor. Sponsored by Modern Millies and Emporium 32.
URL:https://salemforallages.org/event/swing-dance-night-with-the-acoustiphonics/
ATTACH;FMTTYPE=image/png:https://salemforallages.org/wp-content/uploads/2025/03/Swing-Dance.png
END:VEVENT
BEGIN:VEVENT
DTSTART;TZID=America/New_York:20250404T200000
DTEND;TZID=America/New_York:20250404T220000
DTSTAMP:20260422T172620
CREATED:20250330T090018Z
LAST-MODIFIED:20250330T090018Z
UID:23001-1743796800-1743804000@salemforallages.org
SUMMARY:Hot Gnome: A Live Comedy Special with Kelly MacFarland
DESCRIPTION:Get ready to laugh out loud as comedian Kelly MacFarland takes the stage for her hilarious new special\, Hot Gnome! \nKnown for her adorable sass\, relatable humor\, and irresistibly quirky storytelling\, Kelly brings a fresh perspective to life’s awkward moments\, personal triumphs\, and everyday absurdities.
URL:https://salemforallages.org/event/hot-gnome-a-live-comedy-special-with-kelly-macfarland/
ATTACH;FMTTYPE=image/jpeg:https://salemforallages.org/wp-content/uploads/2025/03/Kelly_LiveTaping_SocialMedia.jpg
END:VEVENT
END:VCALENDAR