BEGIN:VCALENDAR
VERSION:2.0
PRODID:-//Salem for All Ages - ECPv6.15.18//NONSGML v1.0//EN
CALSCALE:GREGORIAN
METHOD:PUBLISH
X-WR-CALNAME:Salem for All Ages
X-ORIGINAL-URL:https://salemforallages.org
X-WR-CALDESC:Events for Salem for All Ages
REFRESH-INTERVAL;VALUE=DURATION:PT1H
X-Robots-Tag:noindex
X-PUBLISHED-TTL:PT1H
BEGIN:VTIMEZONE
TZID:America/New_York
BEGIN:DAYLIGHT
TZOFFSETFROM:-0500
TZOFFSETTO:-0400
TZNAME:EDT
DTSTART:20230312T070000
END:DAYLIGHT
BEGIN:STANDARD
TZOFFSETFROM:-0400
TZOFFSETTO:-0500
TZNAME:EST
DTSTART:20231105T060000
END:STANDARD
BEGIN:DAYLIGHT
TZOFFSETFROM:-0500
TZOFFSETTO:-0400
TZNAME:EDT
DTSTART:20240310T070000
END:DAYLIGHT
BEGIN:STANDARD
TZOFFSETFROM:-0400
TZOFFSETTO:-0500
TZNAME:EST
DTSTART:20241103T060000
END:STANDARD
BEGIN:DAYLIGHT
TZOFFSETFROM:-0500
TZOFFSETTO:-0400
TZNAME:EDT
DTSTART:20250309T070000
END:DAYLIGHT
BEGIN:STANDARD
TZOFFSETFROM:-0400
TZOFFSETTO:-0500
TZNAME:EST
DTSTART:20251102T060000
END:STANDARD
END:VTIMEZONE
BEGIN:VEVENT
DTSTART;TZID=America/New_York:20240131T180000
DTEND;TZID=America/New_York:20240131T200000
DTSTAMP:20260422T071437
CREATED:20240121T100013Z
LAST-MODIFIED:20240121T100013Z
UID:17701-1706724000-1706731200@salemforallages.org
SUMMARY:Bingo at Gulu-Gulu Cafe
DESCRIPTION:Stop by Gulu-Gulu Cafe for a fun trivia series that will excite and engage any audience! Quirky\, funny\, and free!
URL:https://salemforallages.org/event/bingo-at-gulu-gulu-cafe-27/
ATTACH;FMTTYPE=image/jpeg:https://salemforallages.org/wp-content/uploads/2023/08/BingoBoardNew.jpg
END:VEVENT
BEGIN:VEVENT
DTSTART;TZID=America/New_York:20240131T190000
DTEND;TZID=America/New_York:20240131T210000
DTSTAMP:20260422T071437
CREATED:20240126T100009Z
LAST-MODIFIED:20240126T100009Z
UID:17718-1706727600-1706734800@salemforallages.org
SUMMARY:Small Batch Trivia With Geeks Who Drink
DESCRIPTION:Join us each Wednesday for 2 hours of general knowledge\, pop culture trivia hosted by our friends from Geeks Who Drink! Appropriate for all ages. Prizes for the top two teams! \nSeating starts at 6:45. As of now we are not taking reservations\, and seating is first-come\, first-served. We may implement a call-ahead waitlist or reservations in the future should interest allow.\nOrder minimum: $15 per person. \n*For those of you yearning for the return of Nerd Trivia\, we’re sorry to disappoint. We feel this format will include more people in the fun! We WILL be hosting themed trivia from time to time\, so look for those special events coming soon.
URL:https://salemforallages.org/event/small-batch-trivia-with-geeks-who-drink/
ATTACH;FMTTYPE=image/jpeg:https://salemforallages.org/wp-content/uploads/2024/01/419132312_863957225729360_4273940916293433697_n.jpg
END:VEVENT
END:VCALENDAR