BEGIN:VCALENDAR
VERSION:2.0
PRODID:-//Salem for All Ages - ECPv6.15.18//NONSGML v1.0//EN
CALSCALE:GREGORIAN
METHOD:PUBLISH
X-WR-CALNAME:Salem for All Ages
X-ORIGINAL-URL:https://salemforallages.org
X-WR-CALDESC:Events for Salem for All Ages
REFRESH-INTERVAL;VALUE=DURATION:PT1H
X-Robots-Tag:noindex
X-PUBLISHED-TTL:PT1H
BEGIN:VTIMEZONE
TZID:America/New_York
BEGIN:DAYLIGHT
TZOFFSETFROM:-0500
TZOFFSETTO:-0400
TZNAME:EDT
DTSTART:20230312T070000
END:DAYLIGHT
BEGIN:STANDARD
TZOFFSETFROM:-0400
TZOFFSETTO:-0500
TZNAME:EST
DTSTART:20231105T060000
END:STANDARD
BEGIN:DAYLIGHT
TZOFFSETFROM:-0500
TZOFFSETTO:-0400
TZNAME:EDT
DTSTART:20240310T070000
END:DAYLIGHT
BEGIN:STANDARD
TZOFFSETFROM:-0400
TZOFFSETTO:-0500
TZNAME:EST
DTSTART:20241103T060000
END:STANDARD
BEGIN:DAYLIGHT
TZOFFSETFROM:-0500
TZOFFSETTO:-0400
TZNAME:EDT
DTSTART:20250309T070000
END:DAYLIGHT
BEGIN:STANDARD
TZOFFSETFROM:-0400
TZOFFSETTO:-0500
TZNAME:EST
DTSTART:20251102T060000
END:STANDARD
END:VTIMEZONE
BEGIN:VEVENT
DTSTART;TZID=America/New_York:20240120T080000
DTEND;TZID=America/New_York:20240120T170000
DTSTAMP:20260420T113322
CREATED:20231231T100014Z
LAST-MODIFIED:20231231T100014Z
UID:17591-1705737600-1705770000@salemforallages.org
SUMMARY:SALEM FLEA
DESCRIPTION:THE SALEM FLEA’S 7TH ANNUAL SUMMER MARKET SERIES WILL BE HELD ON THE 3RD SATURDAY OF THE MONTH\, MAY-SEPTEMBER \n40+ LOCAL VINTAGE\, HANDMADE ART VENDORS LOCATED IN THE HEART OF HISTORIC SALEM MASSACHUSETTS
URL:https://salemforallages.org/event/salem-flea-8/
ATTACH;FMTTYPE=image/jpeg:https://salemforallages.org/wp-content/uploads/2023/06/IMG_2259.jpg
END:VEVENT
BEGIN:VEVENT
DTSTART;TZID=America/New_York:20240120T080000
DTEND;TZID=America/New_York:20240120T170000
DTSTAMP:20260420T113322
CREATED:20240101T100008Z
LAST-MODIFIED:20240101T100008Z
UID:17592-1705737600-1705770000@salemforallages.org
SUMMARY:Book a “Good Witch Magical Transformation”
DESCRIPTION:Children\, tweens\, teens\, and adults are all welcome to participate in our “Good Witch Transformations”! \nThrough our transformations children unleash their own spellbinding charms and embrace their individuality. Children are invited to browse our collection of witch hats and dresses. Adorned with shimmering stars\, flowing capes\, and ribbons of enchantment\, these outfits are sure to celebrate their unique spirits. \nOur talented apprentices delicately apply a touch of stardust and add sprinkles of color that match your child’s vibrant personality. As they gaze upon their reflection\, their eyes light up with a newfound confidence and a sense of whimsical delight. They have become the magical beings they’ve always dreamt of\, casting spells and brewing potions in their imaginary world. Their laughter fills the air as they twirl and spin\, radiating with joy and wonder.
URL:https://salemforallages.org/event/book-a-good-witch-magical-transformation-18/
ATTACH;FMTTYPE=image/jpeg:https://salemforallages.org/wp-content/uploads/2023/08/magical-transoformations-.jpg
END:VEVENT
BEGIN:VEVENT
DTSTART;TZID=America/New_York:20240120T100000
DTEND;TZID=America/New_York:20240120T110000
DTSTAMP:20260420T113322
CREATED:20240111T100027Z
LAST-MODIFIED:20240111T100027Z
UID:17642-1705744800-1705748400@salemforallages.org
SUMMARY:Winter Witch Spa Day the Good Witch of Salem
DESCRIPTION:Let’s have a Spa Day! Join us for a little pampering and relaxation with our Witch Apprentices. Children will create their own potion and receive a sparkly nail manicure\, fancy hair extensions\, and a touch of glitter. \nThis workshop is limited to 8 children\, pre-registration is required.
URL:https://salemforallages.org/event/winter-witch-spa-day-the-good-witch-of-salem/
ATTACH;FMTTYPE=image/jpeg:https://salemforallages.org/wp-content/uploads/2024/01/winter-witch-spa-day-13-1.jpg
END:VEVENT
BEGIN:VEVENT
DTSTART;TZID=America/New_York:20240120T100000
DTEND;TZID=America/New_York:20240120T140000
DTSTAMP:20260420T113322
CREATED:20240101T100011Z
LAST-MODIFIED:20240101T100011Z
UID:17593-1705744800-1705759200@salemforallages.org
SUMMARY:Book a “Good Witch Transformation”
DESCRIPTION:Thank you for your interest in a “Good Witch” Transformation! \nThrough our transformations children unleash their own spellbinding charms and embrace their individuality. Children are invited to browse our collection of witch hats and dresses. Adorned with shimmering stars\, flowing capes\, and ribbons of enchantment\, these outfits are sure to celebrate their unique spirits. \nOur talented apprentices delicately apply a touch of stardust and add sprinkles of color that match your child’s vibrant personality. As they gaze upon their reflection\, their eyes light up with a newfound confidence and a sense of whimsical delight. They have become the magical beings they’ve always dreamt of\, casting spells and brewing potions in their imaginary world. Their laughter fills the air as they twirl and spin\, radiating with joy and wonder.
URL:https://salemforallages.org/event/book-a-good-witch-transformation-60/
END:VEVENT
BEGIN:VEVENT
DTSTART;TZID=America/New_York:20240120T103000
DTEND;TZID=America/New_York:20240120T123000
DTSTAMP:20260420T113322
CREATED:20240101T100011Z
LAST-MODIFIED:20240101T100011Z
UID:17594-1705746600-1705753800@salemforallages.org
SUMMARY:Process Art Mornings
DESCRIPTION:Informal in-process art making
URL:https://salemforallages.org/event/process-art-mornings-37/
ATTACH;FMTTYPE=image/jpeg:https://salemforallages.org/wp-content/uploads/2023/05/01.jpg
END:VEVENT
BEGIN:VEVENT
DTSTART;TZID=America/New_York:20240120T130000
DTEND;TZID=America/New_York:20240120T150000
DTSTAMP:20260420T113322
CREATED:20240113T100025Z
LAST-MODIFIED:20240113T100025Z
UID:17660-1705755600-1705762800@salemforallages.org
SUMMARY:Rockhopper Penguins at the PEM
DESCRIPTION:Rockhopper penguins\, named after their ability to jump from rock to rock\, live on islands North of Antarctica. The rockhoppers’ most iconic feature is their yellow crowns\, which look like grumpy eyebrows. Join us as we turn rocks into rockhoppers! Then\, find the species of penguins from PEM’s natural history collection on view in the galleries. \nRegular Drop-in Art Making is held in person Friday–Monday in our Create Space studios. Friday art making is recommended for ages 10 to adult\, while Saturday–Monday activities are suitable for ages 4 and up. Activities are created and led by PEM’s Education team.
URL:https://salemforallages.org/event/rockhopper-penguins-at-the-pem-3/
ATTACH;FMTTYPE=image/jpeg:https://salemforallages.org/wp-content/uploads/2024/01/Ev_RockhopperPenguins_lk_rep_002a.jpg
END:VEVENT
BEGIN:VEVENT
DTSTART;TZID=America/New_York:20240120T140000
DTEND;TZID=America/New_York:20240120T150000
DTSTAMP:20260420T113322
CREATED:20240113T100026Z
LAST-MODIFIED:20240113T100026Z
UID:17661-1705759200-1705762800@salemforallages.org
SUMMARY:Lecture: Designing a Bat-Inspired Robot at PEM
DESCRIPTION:Bats have one of the most sophisticated flying mechanisms of any animal\, with more than 40 joints in their wings. The way bats swoop through the air inspired robotics engineer Alireza Ramezani to invent the Bat Bot drone\, which is highlighted in the current Bats! exhibition. Come see the original Bat Bot and hear Ramezani talk about the process of inventing a drone that can flap\, glide and turn\, as well as his current project: a more advanced version of the Bat Bot that perches and hangs upside down. \nThis program is generously supported by the Lowell Institute.
URL:https://salemforallages.org/event/lecture-designing-a-bat-inspired-robot-at-pem/
ATTACH;FMTTYPE=image/jpeg:https://salemforallages.org/wp-content/uploads/2024/01/Ev_Batbot_lk_rep_002.jpg
END:VEVENT
BEGIN:VEVENT
DTSTART;TZID=America/New_York:20240120T163000
DTEND;TZID=America/New_York:20240120T213000
DTSTAMP:20260420T113322
CREATED:20240113T100029Z
LAST-MODIFIED:20240113T100029Z
UID:17663-1705768200-1705786200@salemforallages.org
SUMMARY:Burns Night 2024 at Hamilton Hall
DESCRIPTION:Join the fun and raise a toast to the great Scottish poet Robert Burns at Hamilton Hall for a lively evening of Scottish culture. \n\nBurns Nights (or Burns Suppers) began in July of 1801\, five years after famous Scottish poet Robert Burns’ death. Friends gathered to give tribute to the Scottish bard\, drinking whisky and reading his songs and poems. Over the centuries\, Burns Nights have grown into an international phenomenon. \nThe evening begins with a reception\, cocktails\, and signature drinks and whisky tasting. Non-alcoholic options ill abound as well. Enjoy live Scottish music while you chat with friends\, admire everyone’s Scottish garb\, and get ready for the delicious seated three-course meal. Try the haggis\, if you’re adventurous!Listen to humorous toasts and poetic tributes! Dance the night away with Scottish folk dancing!Cocktail attire or highland dress optional.Sláinte Mhath!
URL:https://salemforallages.org/event/burns-night-2024-at-hamilton-hall/
ATTACH;FMTTYPE=image/jpeg:https://salemforallages.org/wp-content/uploads/2024/01/CopyofBurns3.jpg
END:VEVENT
BEGIN:VEVENT
DTSTART;TZID=America/New_York:20240120T190000
DTEND;TZID=America/New_York:20240120T210000
DTSTAMP:20260420T113322
CREATED:20240101T100011Z
LAST-MODIFIED:20240101T100011Z
UID:17595-1705777200-1705784400@salemforallages.org
SUMMARY:Keys at Counter
DESCRIPTION:Join us at The Hotel Salem Counter Bar for Keys at Counter! Experience an unforgettable night of music and relaxation!
URL:https://salemforallages.org/event/keys-at-counter/
ATTACH;FMTTYPE=image/jpeg:https://salemforallages.org/wp-content/uploads/2024/01/HotelSalem_Freebird-121-1.jpg
END:VEVENT
BEGIN:VEVENT
DTSTART;TZID=America/New_York:20240120T193000
DTEND;TZID=America/New_York:20240120T210000
DTSTAMP:20260420T113322
CREATED:20240118T100008Z
LAST-MODIFIED:20240118T100008Z
UID:17672-1705779000-1705784400@salemforallages.org
SUMMARY:Salem State Dance Faculty and Guest Artist Concert
DESCRIPTION:An evening of original choreography\, featuring works by Salem State dance faculty Jeffrey A. Bird Jr.\, Joanne Caidor\, Greg Coles\, Michelle Deane\, Meghan McLyman\, and Betsy Miller. \nTICKETS \n\n$15 general/$10 students/free for students with ID and under 18
URL:https://salemforallages.org/event/salem-state-dance-faculty-and-guest-artist-concert/
ATTACH;FMTTYPE=image/jpeg:https://salemforallages.org/wp-content/uploads/2024/01/Faculty-Dance-Concert-Meghan2creditNicole_Marie_Photography-cropped-scaled-1.jpg
END:VEVENT
BEGIN:VEVENT
DTSTART;TZID=America/New_York:20240120T200000
DTEND;TZID=America/New_York:20240120T220000
DTSTAMP:20260420T113322
CREATED:20240101T100014Z
LAST-MODIFIED:20240101T100014Z
UID:17597-1705780800-1705788000@salemforallages.org
SUMMARY:Classic Stones Live: The Greatest Rock And Roll Tribute In The World
DESCRIPTION:THE GREATEST ROCK AND ROLL TRIBUTE IN THE WORLD \n\nFront man Keith Call has all of the moves and swagger of Mick Jagger\, and along with his partner in crime Bernie Bollendorf\, who portrays rock and roll outlaw Keith Richards\, they complete the duo notoriously hailed as “The Glimmer Twins”. Their jaw dropping resemblance to these two rock and roll icons is simply amazing\, but what truly makes Classic Stones Live™ unique\, is their musical prowess\, attention to detail\, and the spot on renditions of all of your favorite Rolling Stones “classics”!
URL:https://salemforallages.org/event/classic-stones-live-the-greatest-rock-and-roll-tribute-in-the-world/
ATTACH;FMTTYPE=image/jpeg:https://salemforallages.org/wp-content/uploads/2024/01/stones.jpg
END:VEVENT
END:VCALENDAR